BEGIN:VCALENDAR
VERSION:2.0
PRODID:-//California Humanities - ECPv6.15.18//NONSGML v1.0//EN
CALSCALE:GREGORIAN
METHOD:PUBLISH
X-ORIGINAL-URL:https://calhum.org
X-WR-CALDESC:Events for California Humanities
REFRESH-INTERVAL;VALUE=DURATION:PT1H
X-Robots-Tag:noindex
X-PUBLISHED-TTL:PT1H
BEGIN:VTIMEZONE
TZID:America/Los_Angeles
BEGIN:DAYLIGHT
TZOFFSETFROM:-0800
TZOFFSETTO:-0700
TZNAME:PDT
DTSTART:20230312T100000
END:DAYLIGHT
BEGIN:STANDARD
TZOFFSETFROM:-0700
TZOFFSETTO:-0800
TZNAME:PST
DTSTART:20231105T090000
END:STANDARD
BEGIN:DAYLIGHT
TZOFFSETFROM:-0800
TZOFFSETTO:-0700
TZNAME:PDT
DTSTART:20240310T100000
END:DAYLIGHT
BEGIN:STANDARD
TZOFFSETFROM:-0700
TZOFFSETTO:-0800
TZNAME:PST
DTSTART:20241103T090000
END:STANDARD
BEGIN:DAYLIGHT
TZOFFSETFROM:-0800
TZOFFSETTO:-0700
TZNAME:PDT
DTSTART:20250309T100000
END:DAYLIGHT
BEGIN:STANDARD
TZOFFSETFROM:-0700
TZOFFSETTO:-0800
TZNAME:PST
DTSTART:20251102T090000
END:STANDARD
END:VTIMEZONE
BEGIN:VEVENT
DTSTART;VALUE=DATE:20241003
DTEND;VALUE=DATE:20241201
DTSTAMP:20260425T072941
CREATED:20240910T233040Z
LAST-MODIFIED:20240910T233040Z
UID:10000468-1727913600-1733011199@calhum.org
SUMMARY:SAN DIEGO—Exhibition: Poetic Justice's Voices on the Inside
DESCRIPTION:Caption: Voices on the Inside: self-portrait poetry and photography\, Lisa Loftus Photography \nSAN DIEGO—Visit Voices on the Inside\, a multimodal self-portrait poetry and photography exhibit created by incarcerated artists. It was chosen by the San Diego-Tijuana World Design Capital as a 2024 Impact Partner to unite the community with participatory design thinking strategies rooted in the urgent need for a collaborative solution to amending punitive approaches to incarceration and to increasing personal and community healing and harm reduction. The interactive art exhibit at San Diego State University engages visitors throughout the fall 2024 semester in conversations around self-portrait art making and trauma\, mass incarceration\, gender-based violence\, poverty\, addiction\, and mental illness.  \nOver 4 months\, students\, researchers\, and the public will observe the self-portraits of incarcerated women\, read their poetry\, hear them speaking in recorded interviews for the first time\, and access QR codes in digital literacy spaces that contextualize and problematize the women’s carceral state. The approach is uniquely centered in their humanity\, and all are welcome to this free experience of one of the most marginalized and silenced communities in America today – people in women’s jails and prisons.  \nWhere: SDSU Digital Humanities Library (bottom floor of the Love Library)\, 500 Canyon Crest Dr\, San Diego\, CA 92115\nWhen: Runs October 3\, 2024-November 30\, 2024 \nFor details\, see: poeticjustice.org/learn-more \nFor questions\, please contact: Contact information optional
URL:https://calhum.org/event/san-diego-exhibition-poetic-justices-voices-on-the-inside/
LOCATION:San Diego State Univerity\, 5500 Campanile Dri\, San Diego\, CA\, 92182\, United States
CATEGORIES:Humanities for All Quick Grants
ATTACH;FMTTYPE=image/jpeg:https://calhum.org/wp-content/uploads/2024/09/Voices-Exhibit-Promo-Image.jpeg
GEO:32.7747307;-117.0693867
X-APPLE-STRUCTURED-LOCATION;VALUE=URI;X-ADDRESS=San Diego State Univerity 5500 Campanile Dri San Diego CA 92182 United States;X-APPLE-RADIUS=500;X-TITLE=5500 Campanile Dri:geo:-117.0693867,32.7747307
END:VEVENT
BEGIN:VEVENT
DTSTART;TZID=America/Los_Angeles:20241003T170000
DTEND;TZID=America/Los_Angeles:20241003T190000
DTSTAMP:20260425T072941
CREATED:20240910T231442Z
LAST-MODIFIED:20240910T232823Z
UID:10000459-1727974800-1727982000@calhum.org
SUMMARY:SAN DIEGO—Opening Reception: Poetic Justice's Voices on the Inside
DESCRIPTION:Caption: Voices on the Inside: self-portrait poetry and photography\, Lisa Loftus Photography \nSAN DIEGO—Join the opening reception for Voices on the Inside\, a multimodal self-portrait poetry and photography exhibit created by incarcerated artists. It was chosen by the San Diego-Tijuana World Design Capital as a 2024 Impact Partner to unite the community with participatory design thinking strategies rooted in the urgent need for a collaborative solution to amending punitive approaches to incarceration and to increasing personal and community healing and harm reduction. The interactive art exhibit at San Diego State University engages visitors throughout the fall 2024 semester in conversations around self-portrait art making and trauma\, mass incarceration\, gender-based violence\, poverty\, addiction\, and mental illness.  \nOver 4 months\, students\, researchers\, and the public will observe the self-portraits of incarcerated women\, read their poetry\, hear them speaking in recorded interviews for the first time\, and access QR codes in digital literacy spaces that contextualize and problematize the women’s carceral state. The approach is uniquely centered in their humanity\, and all are welcome to this free experience of one of the most marginalized and silenced communities in America today – people in women’s jails and prisons.  \nWhere: SDSU Digital Humanities Library (bottom floor of the Love Library)\, 500 Canyon Crest Dr\, San Diego\, CA 92115\nWhen: Thursday\, October 3\, 2024 from 5-7 pm \nFor details\, see: poeticjustice.org/learn-more \nFor questions\, please contact: Contact information optional
URL:https://calhum.org/event/san-diego-poetic-justices-voices-on-the-inside/
LOCATION:San Diego State Univerity\, 5500 Campanile Dri\, San Diego\, CA\, 92182\, United States
CATEGORIES:Humanities for All Quick Grants
ATTACH;FMTTYPE=image/jpeg:https://calhum.org/wp-content/uploads/2024/09/Voices-Exhibit-Promo-Image.jpeg
GEO:32.7747307;-117.0693867
X-APPLE-STRUCTURED-LOCATION;VALUE=URI;X-ADDRESS=San Diego State Univerity 5500 Campanile Dri San Diego CA 92182 United States;X-APPLE-RADIUS=500;X-TITLE=5500 Campanile Dri:geo:-117.0693867,32.7747307
END:VEVENT
BEGIN:VEVENT
DTSTART;TZID=America/Los_Angeles:20241012T170000
DTEND;TZID=America/Los_Angeles:20241012T183000
DTSTAMP:20260425T072941
CREATED:20240919T002412Z
LAST-MODIFIED:20240919T002412Z
UID:10000478-1728752400-1728757800@calhum.org
SUMMARY:THOUSAND OAKS—Resistance & Persistence Speaker Series
DESCRIPTION:Above: Chumash Indian Museum\, courtesy of the museum on Instagram. \nTHOUSAND OAKS—The Resistance and Persistence program recognizes the 200th anniversary of the 1824 Chumash Revolt against several of the Spanish missions established in Chumash lands. This little-known chapter of history highlights the cultural resistance of indigenous peoples to the harsh environment of colonialism and establishes context for the ongoing cultural revitalization efforts of Chumash people today. Chumash Elder Alan Salazar will be discussing the San Fernando Mission’s connection to the 1824 Revolt. \nWhere: Oakbrook Chumash Indian Museum\, 3290 Lang Ranch Parkway\, Thousand Oaks\, 91360\nWhen: 5 pm\, October 12 \nFor details\, see: Chumashmuseum.org \nFor questions\, please contact: Dayle Bingham\, visit@chumashmuseum.org
URL:https://calhum.org/event/thousand-oaks-resistance-persistence-speaker-series/
LOCATION:Chumash Indian Museum\, 3290 Lang Ranch Parkway\, Thousand Oaks\, CA\, 91362
CATEGORIES:Humanities for All Quick Grants
ATTACH;FMTTYPE=image/png:https://calhum.org/wp-content/uploads/2024/09/Screen-Shot-2024-09-18-at-5.23.04-PM.png
END:VEVENT
BEGIN:VEVENT
DTSTART;TZID=America/Los_Angeles:20241015T170000
DTEND;TZID=America/Los_Angeles:20241015T190000
DTSTAMP:20260425T072941
CREATED:20241009T214935Z
LAST-MODIFIED:20241009T214935Z
UID:10000514-1729011600-1729018800@calhum.org
SUMMARY:LOS ANGELES—Sites and Cycles of LA: Bike Messengers and the City
DESCRIPTION:LOS ANGELES—Messengers\, couriers\, and delivery riders are essential workers in today’s cities. Yet\, they remain largely invisible and vulnerable\, working for low rates and risking their personal safety. But they have also produced a flourishing subculture and community that cannot be contained by their working conditions. Through a photography project\, culminating in an exhibition and website\, Sites and Cycles of LA: Bike Messengers and the City offers them a platform to share stories and experiences from the city of Los Angeles. \nWhere: USC Wallis Annenberg Hall\, 3630 Watt Way\, Los Angeles\, CA 90089\nWhen: Tuesday\, October 15\, 5 pm \nFor details\, see: https://annenberg.usc.edu/events/idea/sites-and-cycles-la-photo-project
URL:https://calhum.org/event/los-angeles-sites-and-cycles-of-la-bike-messengers-and-the-city/
LOCATION:USC Wallis Annenberg Hall\, Watt Way\, Los Angeles\, California\, 90089\, United States
CATEGORIES:Humanities for All Quick Grants
ATTACH;FMTTYPE=image/jpeg:https://calhum.org/wp-content/uploads/2024/10/Sites-and-Cycles-of-LA-scaled.jpg
GEO:34.0207879;-118.2870523
X-APPLE-STRUCTURED-LOCATION;VALUE=URI;X-ADDRESS=USC Wallis Annenberg Hall Watt Way Los Angeles California 90089 United States;X-APPLE-RADIUS=500;X-TITLE=Watt Way:geo:-118.2870523,34.0207879
END:VEVENT
BEGIN:VEVENT
DTSTART;TZID=America/Los_Angeles:20241020T103000
DTEND;TZID=America/Los_Angeles:20241020T133000
DTSTAMP:20260425T072941
CREATED:20240725T194942Z
LAST-MODIFIED:20240807T160438Z
UID:10000391-1729420200-1729431000@calhum.org
SUMMARY:LOS ANGELES—Rooted: Equitable Access to Green Space Through Conversation\, Art\, and Poetry
DESCRIPTION:LOS ANGELES—“Rooted” is a community-based discussion series\, designed by filmmaker Elizabeth Gray Bayne and in partnership with the Nature Nexus Institute & Los Angeles County Department of Parks and Recreation\, inviting Black residents to reflect on their relationship to nature\, environmental racism\, and ways they might increase their engagement with the natural world. This three-part series beginning August 18 will offer community forums\, facilitated by local humanities experts\, and arts and wellness workshops\, led by local artists\, poets and wellness instructors\, in parks around Los Angeles. They are designed to combat the physical and mental health disparities\, such as chronic disease and stress\, that often result in low income communities in Los Angeles County. All events will be free and open to the public. \nAugust 18: “Finding Justice in Photography” \nFacilitated discussion on the intersection of mobility and environmental justice\, followed by workshops on nature photography and yoga. \nSeptember 22: “Reconnecting Through Words” \nFacilitated discussion on family mythology and ancestral connections to nature\, followed by workshops on nature-inspired poetry and yoga. \nOctober 20: “Drawing Healing & Inspiration” \nFacilitated discussion on feelings of belonging in and being in nature and therapy\, mental health\, followed by workshops on nature sketching and yoga. \nRSVP: https://www.eventbrite.com/e/rooted-equitable-access-to-green-space-through-conversation-art-poetry-tickets-950295237637 \nFor questions\, please contact: Elizabeth Gray Bayne\, media@graybayne.com
URL:https://calhum.org/event/los-angeles-rooted-equitable-access-to-green-space-through-conversation-art-and-poetry-3/
LOCATION:Stoneview Nature Center\, 5950 Stoneview Drive\, Culver City\, 90232
CATEGORIES:Humanities for All Quick Grants
ATTACH;FMTTYPE=image/jpeg:https://calhum.org/wp-content/uploads/2024/07/Park-Series-Thumbnail-1000x560-v2.jpg
GEO:34.0141198;-118.3772829
X-APPLE-STRUCTURED-LOCATION;VALUE=URI;X-ADDRESS=Stoneview Nature Center 5950 Stoneview Drive Culver City 90232;X-APPLE-RADIUS=500;X-TITLE=5950 Stoneview Drive:geo:-118.3772829,34.0141198
END:VEVENT
BEGIN:VEVENT
DTSTART;TZID=America/Los_Angeles:20241028T170000
DTEND;TZID=America/Los_Angeles:20241028T180000
DTSTAMP:20260425T072941
CREATED:20240913T191642Z
LAST-MODIFIED:20240913T192025Z
UID:10000472-1730134800-1730138400@calhum.org
SUMMARY:VIRTUAL—NewGround Book Club with Sandy Tolan
DESCRIPTION:VIRTUAL—We will be speaking with Sandy Tolan\, author of The Lemon Tree\, which tells the story of the al-Khairi and Eshkenazi families and their separate and intertwined histories to a single house and the lemon tree in its garden. Sandy is a best-selling author and an award-winning radio and print journalist who reports on and comments frequently about Palestine and Israel.  \nTime/Date:  October 28\, at 5 pm PT\nVenue: Virtual | Zoom link to join virtually
URL:https://calhum.org/event/virtual-newground-book-club-with-sandy-tolan/
LOCATION:Virtual
CATEGORIES:Humanities for All Quick Grants
ATTACH;FMTTYPE=image/png:https://calhum.org/wp-content/uploads/2024/09/Book-Club-2024.png
END:VEVENT
END:VCALENDAR