BEGIN:VCALENDAR
VERSION:2.0
PRODID:-//California Humanities - ECPv6.15.18//NONSGML v1.0//EN
CALSCALE:GREGORIAN
METHOD:PUBLISH
X-ORIGINAL-URL:https://calhum.org
X-WR-CALDESC:Events for California Humanities
REFRESH-INTERVAL;VALUE=DURATION:PT1H
X-Robots-Tag:noindex
X-PUBLISHED-TTL:PT1H
BEGIN:VTIMEZONE
TZID:America/Los_Angeles
BEGIN:DAYLIGHT
TZOFFSETFROM:-0800
TZOFFSETTO:-0700
TZNAME:PDT
DTSTART:20220313T100000
END:DAYLIGHT
BEGIN:STANDARD
TZOFFSETFROM:-0700
TZOFFSETTO:-0800
TZNAME:PST
DTSTART:20221106T090000
END:STANDARD
BEGIN:DAYLIGHT
TZOFFSETFROM:-0800
TZOFFSETTO:-0700
TZNAME:PDT
DTSTART:20230312T100000
END:DAYLIGHT
BEGIN:STANDARD
TZOFFSETFROM:-0700
TZOFFSETTO:-0800
TZNAME:PST
DTSTART:20231105T090000
END:STANDARD
BEGIN:DAYLIGHT
TZOFFSETFROM:-0800
TZOFFSETTO:-0700
TZNAME:PDT
DTSTART:20240310T100000
END:DAYLIGHT
BEGIN:STANDARD
TZOFFSETFROM:-0700
TZOFFSETTO:-0800
TZNAME:PST
DTSTART:20241103T090000
END:STANDARD
END:VTIMEZONE
BEGIN:VEVENT
DTSTART;TZID=America/Los_Angeles:20230409T160000
DTEND;TZID=America/Los_Angeles:20230409T170000
DTSTAMP:20260425T032447
CREATED:20230418T222041Z
LAST-MODIFIED:20231126T235028Z
UID:10000015-1681056000-1681059600@calhum.org
SUMMARY:RADIO BROADCAST—Valley Tales
DESCRIPTION:RADIO BROADCAST—Tune into KDUP\, 88.1 FM\, Surprise Valley community radio\, every Sunday between 4 and 5 pm through December 17\, 2023\, to hear Valley Tales\, a series of interviews with diverse members of the Surprise Valley community including ranchers\, farmers\, members of the Northern Paiute Kidutokado band\, artists\, writers\, musicians\, and others. These interviews will illuminate the remarkable stories of the people who make up the unique community of the beautiful and remote Surprise Valley in the far North-Eastern corner of California. \nSundays in 2023\, through December 17\, between 4 and 5 pm on KDUP FM\, 88.1. \nVisit the program page for the episode archive. \nThis project is supported with a Humanities for All Quick Grant.
URL:https://calhum.org/event/radio-broadcast-valley-tales/2023-04-09/
CATEGORIES:Humanities for All Project Grants
ATTACH;FMTTYPE=image/png:https://calhum.org/wp-content/uploads/2023/04/image.png
END:VEVENT
BEGIN:VEVENT
DTSTART;TZID=America/Los_Angeles:20230416T160000
DTEND;TZID=America/Los_Angeles:20230416T170000
DTSTAMP:20260425T032447
CREATED:20230418T222041Z
LAST-MODIFIED:20231126T235028Z
UID:10000016-1681660800-1681664400@calhum.org
SUMMARY:RADIO BROADCAST—Valley Tales
DESCRIPTION:RADIO BROADCAST—Tune into KDUP\, 88.1 FM\, Surprise Valley community radio\, every Sunday between 4 and 5 pm through December 17\, 2023\, to hear Valley Tales\, a series of interviews with diverse members of the Surprise Valley community including ranchers\, farmers\, members of the Northern Paiute Kidutokado band\, artists\, writers\, musicians\, and others. These interviews will illuminate the remarkable stories of the people who make up the unique community of the beautiful and remote Surprise Valley in the far North-Eastern corner of California. \nSundays in 2023\, through December 17\, between 4 and 5 pm on KDUP FM\, 88.1. \nVisit the program page for the episode archive. \nThis project is supported with a Humanities for All Quick Grant.
URL:https://calhum.org/event/radio-broadcast-valley-tales/2023-04-16/
CATEGORIES:Humanities for All Project Grants
ATTACH;FMTTYPE=image/png:https://calhum.org/wp-content/uploads/2023/04/image.png
END:VEVENT
BEGIN:VEVENT
DTSTART;TZID=America/Los_Angeles:20230423T160000
DTEND;TZID=America/Los_Angeles:20230423T170000
DTSTAMP:20260425T032447
CREATED:20230418T222041Z
LAST-MODIFIED:20231126T235028Z
UID:10000017-1682265600-1682269200@calhum.org
SUMMARY:RADIO BROADCAST—Valley Tales
DESCRIPTION:RADIO BROADCAST—Tune into KDUP\, 88.1 FM\, Surprise Valley community radio\, every Sunday between 4 and 5 pm through December 17\, 2023\, to hear Valley Tales\, a series of interviews with diverse members of the Surprise Valley community including ranchers\, farmers\, members of the Northern Paiute Kidutokado band\, artists\, writers\, musicians\, and others. These interviews will illuminate the remarkable stories of the people who make up the unique community of the beautiful and remote Surprise Valley in the far North-Eastern corner of California. \nSundays in 2023\, through December 17\, between 4 and 5 pm on KDUP FM\, 88.1. \nVisit the program page for the episode archive. \nThis project is supported with a Humanities for All Quick Grant.
URL:https://calhum.org/event/radio-broadcast-valley-tales/2023-04-23/
CATEGORIES:Humanities for All Project Grants
ATTACH;FMTTYPE=image/png:https://calhum.org/wp-content/uploads/2023/04/image.png
END:VEVENT
BEGIN:VEVENT
DTSTART;TZID=America/Los_Angeles:20230430T160000
DTEND;TZID=America/Los_Angeles:20230430T170000
DTSTAMP:20260425T032447
CREATED:20230418T222041Z
LAST-MODIFIED:20231126T235028Z
UID:10000018-1682870400-1682874000@calhum.org
SUMMARY:RADIO BROADCAST—Valley Tales
DESCRIPTION:RADIO BROADCAST—Tune into KDUP\, 88.1 FM\, Surprise Valley community radio\, every Sunday between 4 and 5 pm through December 17\, 2023\, to hear Valley Tales\, a series of interviews with diverse members of the Surprise Valley community including ranchers\, farmers\, members of the Northern Paiute Kidutokado band\, artists\, writers\, musicians\, and others. These interviews will illuminate the remarkable stories of the people who make up the unique community of the beautiful and remote Surprise Valley in the far North-Eastern corner of California. \nSundays in 2023\, through December 17\, between 4 and 5 pm on KDUP FM\, 88.1. \nVisit the program page for the episode archive. \nThis project is supported with a Humanities for All Quick Grant.
URL:https://calhum.org/event/radio-broadcast-valley-tales/2023-04-30/
CATEGORIES:Humanities for All Project Grants
ATTACH;FMTTYPE=image/png:https://calhum.org/wp-content/uploads/2023/04/image.png
END:VEVENT
END:VCALENDAR