BEGIN:VCALENDAR
VERSION:2.0
PRODID:-//California Humanities - ECPv6.15.18//NONSGML v1.0//EN
CALSCALE:GREGORIAN
METHOD:PUBLISH
X-ORIGINAL-URL:https://calhum.org
X-WR-CALDESC:Events for California Humanities
REFRESH-INTERVAL;VALUE=DURATION:PT1H
X-Robots-Tag:noindex
X-PUBLISHED-TTL:PT1H
BEGIN:VTIMEZONE
TZID:America/Los_Angeles
BEGIN:DAYLIGHT
TZOFFSETFROM:-0800
TZOFFSETTO:-0700
TZNAME:PDT
DTSTART:20230312T100000
END:DAYLIGHT
BEGIN:STANDARD
TZOFFSETFROM:-0700
TZOFFSETTO:-0800
TZNAME:PST
DTSTART:20231105T090000
END:STANDARD
BEGIN:DAYLIGHT
TZOFFSETFROM:-0800
TZOFFSETTO:-0700
TZNAME:PDT
DTSTART:20240310T100000
END:DAYLIGHT
BEGIN:STANDARD
TZOFFSETFROM:-0700
TZOFFSETTO:-0800
TZNAME:PST
DTSTART:20241103T090000
END:STANDARD
BEGIN:DAYLIGHT
TZOFFSETFROM:-0800
TZOFFSETTO:-0700
TZNAME:PDT
DTSTART:20250309T100000
END:DAYLIGHT
BEGIN:STANDARD
TZOFFSETFROM:-0700
TZOFFSETTO:-0800
TZNAME:PST
DTSTART:20251102T090000
END:STANDARD
BEGIN:DAYLIGHT
TZOFFSETFROM:-0800
TZOFFSETTO:-0700
TZNAME:PDT
DTSTART:20260308T100000
END:DAYLIGHT
BEGIN:STANDARD
TZOFFSETFROM:-0700
TZOFFSETTO:-0800
TZNAME:PST
DTSTART:20261101T090000
END:STANDARD
END:VTIMEZONE
BEGIN:VEVENT
DTSTART;VALUE=DATE:20240309
DTEND;VALUE=DATE:20241215
DTSTAMP:20260421T131054
CREATED:20240301T194016Z
LAST-MODIFIED:20240301T194829Z
UID:10000244-1709942400-1734220799@calhum.org
SUMMARY:LOS ANGELES–Exhibit: Welcome to the Covid Hotel
DESCRIPTION:Caption: Photos courtesy of Dr. Sudarsky. \nLOS ANGELES—Los Angeles Poverty Department (LAPD) is pleased to announce the opening of its new Skid Row History Museum & Archive exhibition\, Welcome to the Covid Hotel. \nWelcome to the Covid Hotel reveals the exceptional innovations and successes of a multidisciplinary team of healthcare professionals who ran LA County Health Department’s emergency Quarantine and Isolation sites for houseless Covid patients and people exposed to the virus in shelters. \nExhibit\nMarch 9-December 14\, 2024\nThursdays-Saturdays\, 2-5pm \nPublic Reception\nMarch 9\, 2024 @ 4:00-7:00pm\nS. Broadway\, Los Angeles 90012\nThe opening event will feature a 15-minute preview of a work-in-progress theatrical performance by LAPD at 5 pm\, as well as an opportunity to meet some of the frontline heroes who staffed the QI sites. \nPanel Discussion\nMarch 27 at 6:30pm\nPanel with Adversity Generates Innovations\, featuring Dr. Sudarsky with Marissa Axelrod\, RN and AlternaGve Healing PracGGoner\, who was one of the first staff at the original QI site; and Soma Snakeoil\, Co-Founder and ExecuGve Director of The Sidewalk Project\, which improvised responses to help people living on the streets during the pandemic; moderated by Clancey Cornell\, a clinical social worker and member of LAPD’s archive staff whose interviews are featured in the exhibition. \nFor information\, contact info@lapovertydept.org or visit the website. \nLos Angeles Poverty Department is a multi-disciplinary arts organization that produces and presents artworks and events that instaniate the existence of the Skid Row community—affirming its assets\, advocating for its rights\, and supporting its aspirations. \nThis project is supported by a Humanities for All Project Grant.
URL:https://calhum.org/event/los-angeles-exhibit-welcome-to-the-covid-hotel/2024-03-09/
LOCATION:Los Angeles Poverty Department\, 250 S Broadway\, Los Angeles\, CA\, 90012\, United States
CATEGORIES:Humanities for All Project Grants
ATTACH;FMTTYPE=image/jpeg:https://calhum.org/wp-content/uploads/2024/03/image.jpeg
GEO:34.0511342;-118.2477107
X-APPLE-STRUCTURED-LOCATION;VALUE=URI;X-ADDRESS=Los Angeles Poverty Department 250 S Broadway Los Angeles CA 90012 United States;X-APPLE-RADIUS=500;X-TITLE=250 S Broadway:geo:-118.2477107,34.0511342
END:VEVENT
BEGIN:VEVENT
DTSTART;VALUE=DATE:20240927
DTEND;VALUE=DATE:20250601
DTSTAMP:20260421T131054
CREATED:20240910T224902Z
LAST-MODIFIED:20240910T225814Z
UID:10000467-1727395200-1748735999@calhum.org
SUMMARY:RIVERSIDE—Exhibition: Homegrown Heroes
DESCRIPTION:RIVERSIDE—The Civil Rights Institute of Inland Southern California invites the public to its newest exhibition\, Homegrown Heroes. The ambitious $200\,000 bilingual exhibition and oral history project interviewed 25 elders and emerging leaders\, heralding the start of the Civil Rights Institute’s oral history program\, a determined effort to preserve hundreds of Inland stories. Focusing on the interest areas of race and ethnicity\, sexual orientation and gender identity\, disability\, gender\, and national origin\, the exhibition expands what civil rights work looks like in our region. \nWhen: Runs from September 27\, 2024 to May 31\, 2025\nExhibition hours: Wednesday-Friday\, 12 pm-5 pm \nWhere: 3933 Mission Inn Ave. Suite 103\, Riverside\, CA 92501 \nFor more information\, contact: 951-682-5307\, info@inlandcivilrights.org \n\nLink: inlandcivilrights.org
URL:https://calhum.org/event/riverside-exhibition-homegrown-heroes/
LOCATION:Civil Rights Insitute of Inland Southern California\, Mission Inn Avenue\, Riverside\, California\, 92501\, United States
CATEGORIES:Humanities for All Project Grants
ATTACH;FMTTYPE=image/jpeg:https://calhum.org/wp-content/uploads/2024/09/HH_PR_003.jpeg
GEO:33.9845289;-117.3763891
X-APPLE-STRUCTURED-LOCATION;VALUE=URI;X-ADDRESS=Civil Rights Insitute of Inland Southern California Mission Inn Avenue Riverside California 92501 United States;X-APPLE-RADIUS=500;X-TITLE=Mission Inn Avenue:geo:-117.3763891,33.9845289
END:VEVENT
BEGIN:VEVENT
DTSTART;VALUE=DATE:20241004
DTEND;VALUE=DATE:20250101
DTSTAMP:20260421T131054
CREATED:20241008T205501Z
LAST-MODIFIED:20241008T205613Z
UID:10000508-1728000000-1735689599@calhum.org
SUMMARY:TWENTYNINE PALMS—From There To Here: An Exhibit of Military Art and Words
DESCRIPTION:TWENTYNINE PALMS—This exhibition is an opportunity to thoughtfully explore the creative expressions of active military\, veterans\, and their families as they share their personal journeys and the impact of military service on their lives through art. The exhibit will showcase a range of visual art\, and include both two and three-dimensional work with additional programing based on the theme of the art show\,  including Artist Panel\, Writing Workshop\, Art Workshop and Film. This exhibit will be held at the 29 Palms Visitor Center from October 1 – December 31\, 2024. \nWhere: Twentynine Palms Visitor Center: 73484 Twentynine Palms\, CA 92277 \nArt Opening: October 4th\, 5:30 pm – 8 pm \nArtist Panel curated by Danielle Giudici-Wall: Oct 19th 11am – noon \nWriting Workshop with Marine Veteran Renee Pickup Nov 17th 1 pm – 3 pm \nArt Workshop with Artist Jai Kight Dec 7th  11 am – 2 pm\, \nScreening of Sheepdogs a documentary featuring Morongo Basin Veterans \nFor details\, see: https://www.mil-tree.org/ \nFor questions\, please contact: Contact Cheryl Montelle at info@mil-tree.org
URL:https://calhum.org/event/twentynine-palms-from-there-to-here-an-exhibit-of-military-art-and-words/
ATTACH;FMTTYPE=image/jpeg:https://calhum.org/wp-content/uploads/2019/11/47403186062_8f0c79a343_k.jpg
END:VEVENT
BEGIN:VEVENT
DTSTART;TZID=America/Los_Angeles:20241205T183000
DTEND;TZID=America/Los_Angeles:20241205T200000
DTSTAMP:20260421T131054
CREATED:20241204T211637Z
LAST-MODIFIED:20241204T211650Z
UID:10000566-1733423400-1733428800@calhum.org
SUMMARY:BERKELEY—Little Central America 1984
DESCRIPTION:BERKELEY—PANEL DISCUSSION and SNEAK PERFORMANCE PREVIEW\nModerated by Oakland Cultural Affairs Manager Roberto Bedoya\nPanelists: Dr. Stephania Canizales\, Dr. Mauricio Ramírez\, José Artiga\, Central Americans for Education (CAFÉ). \nWhen: Thursday\, December 5\, 6:30 pm (FREE admission)\nWhere: Latinx Research Center\nUniversity of California Berkeley\n2547 Channing Way Berkeley\, CA 94704 \nLittle Central America\, 1984 explores the origin and impact of the Central American migration that occurred in numerous cities across the US in response to 1980s civil unrest in El Salvador and neighboring countries\, and the attendant Sanctuary Movement\, initiated in Berkeley\, to provide safe haven and opportunities for those refugees. It will encompass a panel discussion and performances conceived by writer/musician Rubén Martínez\, directed by veteran interdisciplinary performer Elia Arce\, and including over 20 local poets\, musicians\, and community honorees. Public events will occur December 5-16 at St. John’s Presbyterian Church and the UC campus in Berkeley.
URL:https://calhum.org/event/berkely-little-central-america-1984/
LOCATION:Latinx Research Center University of California Berkeley 2547 Channing Way Berkeley\, CA 94704\, Channing Way 2547\, Berkeley\, California\, 94704\, United States
CATEGORIES:Humanities for All Quick Grants
ATTACH;FMTTYPE=image/jpeg:https://calhum.org/wp-content/uploads/2019/11/47403186062_8f0c79a343_k.jpg
GEO:37.8673511;-122.2567451
X-APPLE-STRUCTURED-LOCATION;VALUE=URI;X-ADDRESS=Latinx Research Center University of California Berkeley 2547 Channing Way Berkeley CA 94704 Channing Way 2547 Berkeley California 94704 United States;X-APPLE-RADIUS=500;X-TITLE=Channing Way 2547:geo:-122.2567451,37.8673511
END:VEVENT
BEGIN:VEVENT
DTSTART;TZID=America/Los_Angeles:20241207T130000
DTEND;TZID=America/Los_Angeles:20241207T170000
DTSTAMP:20260421T131054
CREATED:20241120T183017Z
LAST-MODIFIED:20241120T183017Z
UID:10000556-1733576400-1733590800@calhum.org
SUMMARY:LOS ANGELES—NEW WAVE: Film & Book Signing with Elizabeth Ai
DESCRIPTION:LOS ANGELES—Join director Elizabeth Ai for a screening of NEW WAVE\, followed by a Q&A and signing of the book that accompanies the film. \nMile-high hair. Synthesized sounds. Teenage rebellion. Elizabeth Ai was on a mission to excavate an untold story of rebellious punks in the chaotic world of 80s Vietnamese New Wave until she uncovers a hidden past. \nFilmmaker Elizabeth Ai embarks on a journey to capture the vibrant spirit of a musical phenomenon that electrified Vietnamese American teens in the 1980s: New Wave. What begins as an exploration of the rebellion and freedom within this subculture evolves into a profound narrative of identity\, loss\, and healing. In Orange County\, California\, the synth beats and punk/goth aesthetics provided a sanctuary for a generation of youth grappling with the weight of their parents’ unspoken traumas. \nWhere: Philosophical Research Society\, 3910 Los Feliz Boulevard Los Angeles\, CA 90027\nWhen: Saturday\, December 7\, 1:00 – 5:00 pm PST \nThis event is FREE for PRS MEMBERS. You must RSVP to reserve a space\, on a first come first served basis. \nFor details\, see: https://www.eventbrite.com/e/new-wave-film-book-signing-with-elizabeth-ai-tickets-1077069456739?aff=oddtdtcreator
URL:https://calhum.org/event/los-angeles-new-wave-film-book-signing-with-elizabeth-ai/
LOCATION:Philosophical Research Society\, Los Feliz Boulevard 3910\, Los Angeles\, California\, 90027\, United States
CATEGORIES:California Documentary Project
ATTACH;FMTTYPE=image/jpeg:https://calhum.org/wp-content/uploads/2024/11/newwave-4.jpg
GEO:34.1131212;-118.2776505
X-APPLE-STRUCTURED-LOCATION;VALUE=URI;X-ADDRESS=Philosophical Research Society Los Feliz Boulevard 3910 Los Angeles California 90027 United States;X-APPLE-RADIUS=500;X-TITLE=Los Feliz Boulevard 3910:geo:-118.2776505,34.1131212
END:VEVENT
BEGIN:VEVENT
DTSTART;TZID=America/Los_Angeles:20241208T110000
DTEND;TZID=America/Los_Angeles:20241208T114000
DTSTAMP:20260421T131054
CREATED:20240820T205225Z
LAST-MODIFIED:20240820T224351Z
UID:10000415-1733655600-1733658000@calhum.org
SUMMARY:Santa Barbara—Raíces y Sueños: Cuentos bilingües
DESCRIPTION:SANTA BARBARA—¡Acompáñanos en una mañana llena de experiencias divertidas con arte y cuentos bilingües! Disfruta de la belleza del arte y haz nuevos amigos en este evento educativo y entretenido. \nWhere: Santa Barbara Museum of Art | 1130 State Street\, Santa Barbara\, CA 93101 \nWhen: Domingo de 11 a 11:40 am.\,  \nFor details\, see: URL \nFor questions\, please contact: Catalina Morancey at (805) 962-7653
URL:https://calhum.org/event/santa-barbara-raices-y-suenos-cuentos-bilingues/2024-12-08/
LOCATION:Santa Barbara Museum of Art\, 1130 State St. Luria Activities Center\, Santa Barbara\, CA\, 93101\, United States
CATEGORIES:Library Innovation Lab
ATTACH;FMTTYPE=image/jpeg:https://calhum.org/wp-content/uploads/2024/08/2.jpg
END:VEVENT
BEGIN:VEVENT
DTSTART;TZID=America/Los_Angeles:20241211T180000
DTEND;TZID=America/Los_Angeles:20241211T190000
DTSTAMP:20260421T131054
CREATED:20241203T175921Z
LAST-MODIFIED:20241203T175921Z
UID:10000560-1733940000-1733943600@calhum.org
SUMMARY:FRESNO - Betty Rodriguez Regional Library: Communities Read Together Book Chat
DESCRIPTION:FRESNO—Join the Betty Roderiguez Regional Library as they chat about this month’s chapters of Efrén Divided. Bring your book and your discussion guide as we talk\, share ideas\, and complete a fun activity. \nDon’t have the book yet? Don’t worry! Books are available for free at the Betty Rodriguez Regional Library while supplies last! \nWhere: Betty Rodriguez Regional Library\, 3040 N Cedar Ave Fresno\, CA 93703\nWhen: December 11\, 2024 @ 6 pm \nJanuary 8\, 2025 @ 6 pm \nFebruary 12\, 2025 @ 6 pm \nMarch 12\, 2025 @ 6 pm \nApril 9\, 2025 @ 6 pm \nFor details\, see: Betty Rodriguez: Communities Read Together Book Chat – Fresno Library – Fresno County Public Library \nFor questions\, please contact: Jamie Kurumaji
URL:https://calhum.org/event/fresno-betty-rodriguez-regional-library-communities-read-together-book-chat/2024-12-11/
LOCATION:Betty Rodriguez Regional Library\, 3040 N. Cedar Ave.\, Fresno\, CA\, 93703\, United States
ATTACH;FMTTYPE=image/jpeg:https://calhum.org/wp-content/uploads/2024/11/Betty-Comm-Read-Together-Book-Chat-IG-2024.jpg
GEO:36.7782108;-119.7537403
X-APPLE-STRUCTURED-LOCATION;VALUE=URI;X-ADDRESS=Betty Rodriguez Regional Library 3040 N. Cedar Ave. Fresno CA 93703 United States;X-APPLE-RADIUS=500;X-TITLE=3040 N. Cedar Ave.:geo:-119.7537403,36.7782108
END:VEVENT
BEGIN:VEVENT
DTSTART;TZID=America/Los_Angeles:20241213T193000
DTEND;TZID=America/Los_Angeles:20241213T213000
DTSTAMP:20260421T131054
CREATED:20241205T174904Z
LAST-MODIFIED:20241205T174904Z
UID:10000567-1734118200-1734125400@calhum.org
SUMMARY:BERKELEY—Little Central America 1984
DESCRIPTION:BERKELEY—Little Central America 1984 is a live performance written and performed by Elia Arce and Ruben Martinez that explores the history of the “Little Central Americas” in the United States founded by refugees largely from the civil wars of the 1980s. The performance brings together poetry\, live music and testimonials\, recreating the era when the conflicts in Guatemala and El Salvador displaced over one million people and gave rise to the Sanctuary Movement in which faith-based activists risked their freedom to offer shelter to refugees in defiance of federal law. \nWhere: Saint John’s Presbyterian Church\, 2727 College Avenue\, Berkeley CA  94705\nWhen: Friday\, December 13 at 7:30 pm; Saturday\, December 14 at 7:30 pm; Sunday\, December 15 at 6 pm \nFor details\, see: URL
URL:https://calhum.org/event/berkeley-little-central-america-1984/2024-12-13/
ATTACH;FMTTYPE=image/jpeg:https://calhum.org/wp-content/uploads/2024/12/LCAdcVid-scaled.jpg
END:VEVENT
BEGIN:VEVENT
DTSTART;TZID=America/Los_Angeles:20241214T193000
DTEND;TZID=America/Los_Angeles:20241214T213000
DTSTAMP:20260421T131054
CREATED:20241205T174904Z
LAST-MODIFIED:20241205T174904Z
UID:10000568-1734204600-1734211800@calhum.org
SUMMARY:BERKELEY—Little Central America 1984
DESCRIPTION:BERKELEY—Little Central America 1984 is a live performance written and performed by Elia Arce and Ruben Martinez that explores the history of the “Little Central Americas” in the United States founded by refugees largely from the civil wars of the 1980s. The performance brings together poetry\, live music and testimonials\, recreating the era when the conflicts in Guatemala and El Salvador displaced over one million people and gave rise to the Sanctuary Movement in which faith-based activists risked their freedom to offer shelter to refugees in defiance of federal law. \nWhere: Saint John’s Presbyterian Church\, 2727 College Avenue\, Berkeley CA  94705\nWhen: Friday\, December 13 at 7:30 pm; Saturday\, December 14 at 7:30 pm; Sunday\, December 15 at 6 pm \nFor details\, see: URL
URL:https://calhum.org/event/berkeley-little-central-america-1984/2024-12-14/
ATTACH;FMTTYPE=image/jpeg:https://calhum.org/wp-content/uploads/2024/12/LCAdcVid-scaled.jpg
END:VEVENT
BEGIN:VEVENT
DTSTART;TZID=America/Los_Angeles:20241216T113000
DTEND;TZID=America/Los_Angeles:20241216T133000
DTSTAMP:20260421T131054
CREATED:20241024T225736Z
LAST-MODIFIED:20241024T230255Z
UID:10000539-1734348600-1734355800@calhum.org
SUMMARY:VIRTUAL—NewGround Book Club with Margaux Fitoussi and Jessica Maya Marglin
DESCRIPTION:VIRTUAL—The NewGround Book Club will be read Albert Memmi’s The Pillar of Salt\, a semi-autobiographical novel about a young boy growing up in French-colonized Tunisia who must contend with his identities as Jew\, Arab\, and African at the advent of World War II. Albert Memmi’s novels and nonfiction explored his complex identity as an anti-imperialist\, Zionist\, and self-described “Jewish Arab.” Memmi passed away in 2020\, so we will watch a short film on Memmi’s perspective on identity in the context of colonialism and then have a conversation about our responses to his book and the film.\n\nWhen: This will be on December 19 at 11:30 am PT on Zoom.\n\nRegister: mjnewground.networkforgood.com/events/76461-newground-book-club-2024
URL:https://calhum.org/event/virtual-newground-book-club-with-margaux-fitoussi-and-jessica-maya-marglin/
CATEGORIES:Humanities for All Quick Grants
ATTACH;FMTTYPE=image/png:https://calhum.org/wp-content/uploads/2024/10/Book-Club-2024-1.png
END:VEVENT
BEGIN:VEVENT
DTSTART;TZID=America/Los_Angeles:20241219T183000
DTEND;TZID=America/Los_Angeles:20241219T200000
DTSTAMP:20260421T131054
CREATED:20240826T164936Z
LAST-MODIFIED:20240826T164938Z
UID:10000433-1734633000-1734638400@calhum.org
SUMMARY:SACRAMENTO–California Portraits: ADIOS AMOR: THE SEARCH FOR MARIA MORENO
DESCRIPTION:SACRAMENTO–Delve into the power of portraiture on film with a series inspired by the Crocker Art Museum’s photography collection documenting the people\, places\, and moments in history that define the Golden State. Presented in partnership with California Humanities\, which supported the making of these films through the California Documentary Project grant program\, this series includes a Q & A with filmmakers and film participants following each screening. \nADIOS AMOR: THE SEARCH FOR MARIA MORENO (58 minutes)\nThe discovery of lost photographs sparks the search for Maria Moreno\, a migrant mother of twelve who led a movement for farmworker rights years before Cesar Chavez and Dolores Huerta launched the United Farm Workers.  \nWhen: Thursday\, November 21\, at 6:30 pm \nWhere: The Crocker Art Museum | 216 O Street | Sacramento\, CA 95814 \nFor more information and tickets\, visit the Crocker’s series page. \n  \n \nAbout the Crocker Art Museum\nExperience innovative and impactful interactions with art at the Crocker\, home to a diverse collection of artworks that span centuries\, continents\, and cultures. In addition to a robust schedule of changing exhibitions\, students can engage with California art dating from the Gold Rush to the present; a renowned collection of Master Drawings and European paintings; one of the largest international ceramics collections in the United States; and collections of Asian\, African\, and Oceanic art. \n150\,000 sq. ft and three floors of gallery space\nOver 25\,000 objects in the collection\n3-4 changing exhibitions at any given time\n350 public programs each year including concerts and performances\, classes and workshops\, talks and lectures\, kids + family activities\, school + teacher services and more.
URL:https://calhum.org/event/sacramento-california-portraits-adios-amor/
LOCATION:Crocker Art Museum\, 216 O Street\, Sacramento\, CA\, 95814\, United States
CATEGORIES:California Documentary Project
ATTACH;FMTTYPE=image/jpeg:https://calhum.org/wp-content/uploads/2022/07/Adios-Amor-MMoreno-Okies-5-scaled.jpg
GEO:38.5770462;-121.5065663
X-APPLE-STRUCTURED-LOCATION;VALUE=URI;X-ADDRESS=Crocker Art Museum 216 O Street Sacramento CA 95814 United States;X-APPLE-RADIUS=500;X-TITLE=216 O Street:geo:-121.5065663,38.5770462
END:VEVENT
BEGIN:VEVENT
DTSTART;TZID=America/Los_Angeles:20241231T200000
DTEND;TZID=America/Los_Angeles:20250101T003000
DTSTAMP:20260421T131054
CREATED:20241203T173029Z
LAST-MODIFIED:20241203T173029Z
UID:10000565-1735675200-1735691400@calhum.org
SUMMARY:SANTA CRUZ—Gathering In Gratitude
DESCRIPTION:SANTA CRUZ—Gathering In Gratitude is a New Year’s Eve artist-led mega party hosted by The 418 Project in downtown Santa Cruz\, featuring immersive ambient music and humanities installations by Liminal Space. Attendees can enjoy live bands in the Large Theater\, interactive art installations that explore future visions and community\, and engage in meaningful dialogue facilitated by Liminal Space artists. The event aims to strengthen community bonds by focusing on the loss of third spaces and the importance of creative rituals\, offering participatory experiences that encourage reflection and connection. Proceeds benefit local emerging artists from diverse communities\, allowing attendees to welcome 2025 while supporting a good cause. The event takes place from December 31st to January 1\, doors open at 8 pm\, with tickets ranging from $20 to $1\,000 to accommodate different preferences and support levels. \nWhere: The 418 Project\, 155 S. River St\, Santa Cruz CA 95060\nWhen: 8 pm\, December 31\, 2024 \nFor details\, see: https://www.eventbrite.com/e/the-418-project-new-years-eve-gathering-in-gratitude-2025-tickets-986296919637
URL:https://calhum.org/event/santa-cruz-gathering-in-gratitude/
LOCATION:The 418 Project\, Santa Cruz\, River Street South 155\, Santa Cruz\, C\, 95060\, United States
CATEGORIES:Humanities for All Quick Grants
ATTACH;FMTTYPE=image/jpeg:https://calhum.org/wp-content/uploads/2024/12/418-nye-flyer.jpg
GEO:36.9756829;-122.0242979
X-APPLE-STRUCTURED-LOCATION;VALUE=URI;X-ADDRESS=The 418 Project Santa Cruz River Street South 155 Santa Cruz C 95060 United States;X-APPLE-RADIUS=500;X-TITLE=River Street South 155:geo:-122.0242979,36.9756829
END:VEVENT
END:VCALENDAR