BEGIN:VCALENDAR
VERSION:2.0
PRODID:-//California Humanities - ECPv6.15.18//NONSGML v1.0//EN
CALSCALE:GREGORIAN
METHOD:PUBLISH
X-ORIGINAL-URL:https://calhum.org
X-WR-CALDESC:Events for California Humanities
REFRESH-INTERVAL;VALUE=DURATION:PT1H
X-Robots-Tag:noindex
X-PUBLISHED-TTL:PT1H
BEGIN:VTIMEZONE
TZID:America/Los_Angeles
BEGIN:DAYLIGHT
TZOFFSETFROM:-0800
TZOFFSETTO:-0700
TZNAME:PDT
DTSTART:20230312T100000
END:DAYLIGHT
BEGIN:STANDARD
TZOFFSETFROM:-0700
TZOFFSETTO:-0800
TZNAME:PST
DTSTART:20231105T090000
END:STANDARD
BEGIN:DAYLIGHT
TZOFFSETFROM:-0800
TZOFFSETTO:-0700
TZNAME:PDT
DTSTART:20240310T100000
END:DAYLIGHT
BEGIN:STANDARD
TZOFFSETFROM:-0700
TZOFFSETTO:-0800
TZNAME:PST
DTSTART:20241103T090000
END:STANDARD
BEGIN:DAYLIGHT
TZOFFSETFROM:-0800
TZOFFSETTO:-0700
TZNAME:PDT
DTSTART:20250309T100000
END:DAYLIGHT
BEGIN:STANDARD
TZOFFSETFROM:-0700
TZOFFSETTO:-0800
TZNAME:PST
DTSTART:20251102T090000
END:STANDARD
BEGIN:DAYLIGHT
TZOFFSETFROM:-0800
TZOFFSETTO:-0700
TZNAME:PDT
DTSTART:20260308T100000
END:DAYLIGHT
BEGIN:STANDARD
TZOFFSETFROM:-0700
TZOFFSETTO:-0800
TZNAME:PST
DTSTART:20261101T090000
END:STANDARD
END:VTIMEZONE
BEGIN:VEVENT
DTSTART;VALUE=DATE:20240927
DTEND;VALUE=DATE:20250601
DTSTAMP:20260421T233603
CREATED:20240910T224902Z
LAST-MODIFIED:20240910T225814Z
UID:10000467-1727395200-1748735999@calhum.org
SUMMARY:RIVERSIDE—Exhibition: Homegrown Heroes
DESCRIPTION:RIVERSIDE—The Civil Rights Institute of Inland Southern California invites the public to its newest exhibition\, Homegrown Heroes. The ambitious $200\,000 bilingual exhibition and oral history project interviewed 25 elders and emerging leaders\, heralding the start of the Civil Rights Institute’s oral history program\, a determined effort to preserve hundreds of Inland stories. Focusing on the interest areas of race and ethnicity\, sexual orientation and gender identity\, disability\, gender\, and national origin\, the exhibition expands what civil rights work looks like in our region. \nWhen: Runs from September 27\, 2024 to May 31\, 2025\nExhibition hours: Wednesday-Friday\, 12 pm-5 pm \nWhere: 3933 Mission Inn Ave. Suite 103\, Riverside\, CA 92501 \nFor more information\, contact: 951-682-5307\, info@inlandcivilrights.org \n\nLink: inlandcivilrights.org
URL:https://calhum.org/event/riverside-exhibition-homegrown-heroes/
LOCATION:Civil Rights Insitute of Inland Southern California\, Mission Inn Avenue\, Riverside\, California\, 92501\, United States
CATEGORIES:Humanities for All Project Grants
ATTACH;FMTTYPE=image/jpeg:https://calhum.org/wp-content/uploads/2024/09/HH_PR_003.jpeg
GEO:33.9845289;-117.3763891
X-APPLE-STRUCTURED-LOCATION;VALUE=URI;X-ADDRESS=Civil Rights Insitute of Inland Southern California Mission Inn Avenue Riverside California 92501 United States;X-APPLE-RADIUS=500;X-TITLE=Mission Inn Avenue:geo:-117.3763891,33.9845289
END:VEVENT
BEGIN:VEVENT
DTSTART;TZID=America/Los_Angeles:20250402T173000
DTEND;TZID=America/Los_Angeles:20250402T183000
DTSTAMP:20260421T233603
CREATED:20250314T061142Z
LAST-MODIFIED:20250314T062535Z
UID:10002824-1743615000-1743618600@calhum.org
SUMMARY:FRESNO-LA CULTURA CURA: HEALING THROUGH ART-FREE JARANA LESSONS
DESCRIPTION:FRESNO- LA CULTURA CURA: HEALING THROUGH ARTS PROGRAM PRESENTS FREE JARANA GUITAR LESSONS! \nWhere: CHICANO YOUTH CENTER 1515 E DIVISADERO\nWhen: WEDNESDAYS 530PM \nFor questions\, please contact: Irene Serrano 559-942-0708
URL:https://calhum.org/event/fresno-la-cultura-cura-healing-through-art-free-jarana-lessons/2025-04-02/
LOCATION:CHICANO YOUTH CENTER\, 1515 E Divisadero St\, FRESNO\, C\, 93721\, United States
CATEGORIES:Humanities for All Quick Grants
ATTACH;FMTTYPE=image/jpeg:https://calhum.org/wp-content/uploads/2025/03/LA-CULTURA-CURA-HEALING-THROUGH-ART-JARANA-CLASSES.jpg
GEO:36.7438544;-119.7930571
X-APPLE-STRUCTURED-LOCATION;VALUE=URI;X-ADDRESS=CHICANO YOUTH CENTER 1515 E Divisadero St FRESNO C 93721 United States;X-APPLE-RADIUS=500;X-TITLE=1515 E Divisadero St:geo:-119.7930571,36.7438544
END:VEVENT
BEGIN:VEVENT
DTSTART;TZID=America/Los_Angeles:20250403T090000
DTEND;TZID=America/Los_Angeles:20250404T160000
DTSTAMP:20260421T233603
CREATED:20250130T181821Z
LAST-MODIFIED:20250130T181821Z
UID:10002764-1743670800-1743782400@calhum.org
SUMMARY:DigiMarCon California 2025 - Digital Marketing\, Media and Advertising Conference & Exhibition
DESCRIPTION:DigiMarCon California – The #1 Digital Marketing\, Media and Advertising Conference & Exhibition in California. \nGet ready to be inspired and informed at DigiMarCon California\, the premier annual conference and exhibition for digital marketing\, media\, advertising and business professionals in California\, returning April 3-4\, 2025 to the Loews Hollywood Hotel in Los Angeles\, California. Experience two action-packed days including keynotes\, master classes and panels from experts and thought leaders with cutting-edge strategies and numerous networking opportunities. Also check out the next generation of technology & innovation; Internet\, Mobile\, AdTech\, MarTech & SaaS Technology. Attend in-person or online to access the next wave of digital innovation\, including insights in AI and ChatGPT\, marketing automation\, content creation\, growth hacking\, social media marketing\, SEO\, and more. \nHighlights:\n• Top Industry Keynotes: Hear from visionary speakers who push the boundaries of digital marketing.\n• Networking Opportunities: Connect with thought leaders\, reunite with your peers\, and expand your professional network.\n• Emerging Trends: Discover strategies and latest technologies to move your business to the next level.\n• Hands-On Learning: Master classes\, case studies\, and strategy sessions to equip you with practical solutions for immediate impact. \nThis year’s edition will feature topics such as:\n• Artificial Intelligence\, ChatGPT\, and Marketing Automation\n• Content Marketing\, Email Marketing\, Social Media Marketing\, and Influencer Marketing\n• Conversion Rate Optimization\, Mobile Marketing\, and Video Marketing\n• Data Science\, Big Data\, Programmatic Advertising and Predictive Analytics\n• UI / UX Design\, User Experience\, Omnichannel Marketing\, and much more! \nChallenge traditional ideas\, gain actionable insights\, and discover how to thrive and succeed as a marketer in a rapidly evolving digital world. See why people keep coming back year after year to this must-attend event for any marketer wanting to stay ahead! \nRegister and secure your seat today at https://digimarconcalifornia.com.
URL:https://calhum.org/event/digimarcon-california-2025-digital-marketing-media-and-advertising-conference-exhibition/
LOCATION:Loews Hollywood Hotel\, 1755 N Highland Ave\, Los Angeles\, 90028\, United States
CATEGORIES:Library Innovation Lab
ATTACH;FMTTYPE=image/jpeg:https://calhum.org/wp-content/uploads/2024/12/digimarcon-california_1_optimized.jpg
GEO:34.1029556;-118.339344
X-APPLE-STRUCTURED-LOCATION;VALUE=URI;X-ADDRESS=Loews Hollywood Hotel 1755 N Highland Ave Los Angeles 90028 United States;X-APPLE-RADIUS=500;X-TITLE=1755 N Highland Ave:geo:-118.339344,34.1029556
END:VEVENT
BEGIN:VEVENT
DTSTART;TZID=America/Los_Angeles:20250403T090000
DTEND;TZID=America/Los_Angeles:20250404T160000
DTSTAMP:20260421T233603
CREATED:20250130T181904Z
LAST-MODIFIED:20250130T181904Z
UID:10002761-1743670800-1743782400@calhum.org
SUMMARY:DigiMarCon California 2025 - Digital Marketing\, Media and Advertising Conference & Exhibition
DESCRIPTION:DigiMarCon California – The #1 Digital Marketing\, Media and Advertising Conference & Exhibition in California. \nGet ready to be inspired and informed at DigiMarCon California\, the premier annual conference and exhibition for digital marketing\, media\, advertising and business professionals in California\, returning April 3-4\, 2025 to the Loews Hollywood Hotel in Los Angeles\, California. Experience two action-packed days including keynotes\, master classes and panels from experts and thought leaders with cutting-edge strategies and numerous networking opportunities. Also check out the next generation of technology & innovation; Internet\, Mobile\, AdTech\, MarTech & SaaS Technology. Attend in-person or online to access the next wave of digital innovation\, including insights in AI and ChatGPT\, marketing automation\, content creation\, growth hacking\, social media marketing\, SEO\, and more. \nHighlights:\n• Top Industry Keynotes: Hear from visionary speakers who push the boundaries of digital marketing.\n• Networking Opportunities: Connect with thought leaders\, reunite with your peers\, and expand your professional network.\n• Emerging Trends: Discover strategies and latest technologies to move your business to the next level.\n• Hands-On Learning: Master classes\, case studies\, and strategy sessions to equip you with practical solutions for immediate impact. \nThis year’s edition will feature topics such as:\n• Artificial Intelligence\, ChatGPT\, and Marketing Automation\n• Content Marketing\, Email Marketing\, Social Media Marketing\, and Influencer Marketing\n• Conversion Rate Optimization\, Mobile Marketing\, and Video Marketing\n• Data Science\, Big Data\, Programmatic Advertising and Predictive Analytics\n• UI / UX Design\, User Experience\, Omnichannel Marketing\, and much more! \nChallenge traditional ideas\, gain actionable insights\, and discover how to thrive and succeed as a marketer in a rapidly evolving digital world. See why people keep coming back year after year to this must-attend event for any marketer wanting to stay ahead! \nRegister and secure your seat today at https://digimarconcalifornia.com.
URL:https://calhum.org/event/digimarcon-california-2025-digital-marketing-media-and-advertising-conference-exhibition-2/
LOCATION:Loews Hollywood Hotel\, 1755 N Highland Ave\, Los Angeles\, 90028\, United States
CATEGORIES:CDP NextGen
ATTACH;FMTTYPE=image/png:https://calhum.org/wp-content/uploads/2022/07/placeholder-4-1.png
GEO:34.1029556;-118.339344
X-APPLE-STRUCTURED-LOCATION;VALUE=URI;X-ADDRESS=Loews Hollywood Hotel 1755 N Highland Ave Los Angeles 90028 United States;X-APPLE-RADIUS=500;X-TITLE=1755 N Highland Ave:geo:-118.339344,34.1029556
END:VEVENT
BEGIN:VEVENT
DTSTART;TZID=America/Los_Angeles:20250409T173000
DTEND;TZID=America/Los_Angeles:20250409T183000
DTSTAMP:20260421T233603
CREATED:20250314T061142Z
LAST-MODIFIED:20250314T062535Z
UID:10002825-1744219800-1744223400@calhum.org
SUMMARY:FRESNO-LA CULTURA CURA: HEALING THROUGH ART-FREE JARANA LESSONS
DESCRIPTION:FRESNO- LA CULTURA CURA: HEALING THROUGH ARTS PROGRAM PRESENTS FREE JARANA GUITAR LESSONS! \nWhere: CHICANO YOUTH CENTER 1515 E DIVISADERO\nWhen: WEDNESDAYS 530PM \nFor questions\, please contact: Irene Serrano 559-942-0708
URL:https://calhum.org/event/fresno-la-cultura-cura-healing-through-art-free-jarana-lessons/2025-04-09/
LOCATION:CHICANO YOUTH CENTER\, 1515 E Divisadero St\, FRESNO\, C\, 93721\, United States
CATEGORIES:Humanities for All Quick Grants
ATTACH;FMTTYPE=image/jpeg:https://calhum.org/wp-content/uploads/2025/03/LA-CULTURA-CURA-HEALING-THROUGH-ART-JARANA-CLASSES.jpg
GEO:36.7438544;-119.7930571
X-APPLE-STRUCTURED-LOCATION;VALUE=URI;X-ADDRESS=CHICANO YOUTH CENTER 1515 E Divisadero St FRESNO C 93721 United States;X-APPLE-RADIUS=500;X-TITLE=1515 E Divisadero St:geo:-119.7930571,36.7438544
END:VEVENT
BEGIN:VEVENT
DTSTART;TZID=America/Los_Angeles:20250409T180000
DTEND;TZID=America/Los_Angeles:20250409T190000
DTSTAMP:20260421T233603
CREATED:20241203T175921Z
LAST-MODIFIED:20241203T175921Z
UID:10000564-1744221600-1744225200@calhum.org
SUMMARY:FRESNO - Betty Rodriguez Regional Library: Communities Read Together Book Chat
DESCRIPTION:FRESNO—Join the Betty Roderiguez Regional Library as they chat about this month’s chapters of Efrén Divided. Bring your book and your discussion guide as we talk\, share ideas\, and complete a fun activity. \nDon’t have the book yet? Don’t worry! Books are available for free at the Betty Rodriguez Regional Library while supplies last! \nWhere: Betty Rodriguez Regional Library\, 3040 N Cedar Ave Fresno\, CA 93703\nWhen: December 11\, 2024 @ 6 pm \nJanuary 8\, 2025 @ 6 pm \nFebruary 12\, 2025 @ 6 pm \nMarch 12\, 2025 @ 6 pm \nApril 9\, 2025 @ 6 pm \nFor details\, see: Betty Rodriguez: Communities Read Together Book Chat – Fresno Library – Fresno County Public Library \nFor questions\, please contact: Jamie Kurumaji
URL:https://calhum.org/event/fresno-betty-rodriguez-regional-library-communities-read-together-book-chat/2025-04-09/
LOCATION:Betty Rodriguez Regional Library\, 3040 N. Cedar Ave.\, Fresno\, CA\, 93703\, United States
ATTACH;FMTTYPE=image/jpeg:https://calhum.org/wp-content/uploads/2024/11/Betty-Comm-Read-Together-Book-Chat-IG-2024.jpg
GEO:36.7782108;-119.7537403
X-APPLE-STRUCTURED-LOCATION;VALUE=URI;X-ADDRESS=Betty Rodriguez Regional Library 3040 N. Cedar Ave. Fresno CA 93703 United States;X-APPLE-RADIUS=500;X-TITLE=3040 N. Cedar Ave.:geo:-119.7537403,36.7782108
END:VEVENT
BEGIN:VEVENT
DTSTART;TZID=America/Los_Angeles:20250416T173000
DTEND;TZID=America/Los_Angeles:20250416T183000
DTSTAMP:20260421T233603
CREATED:20250314T061142Z
LAST-MODIFIED:20250314T062535Z
UID:10002826-1744824600-1744828200@calhum.org
SUMMARY:FRESNO-LA CULTURA CURA: HEALING THROUGH ART-FREE JARANA LESSONS
DESCRIPTION:FRESNO- LA CULTURA CURA: HEALING THROUGH ARTS PROGRAM PRESENTS FREE JARANA GUITAR LESSONS! \nWhere: CHICANO YOUTH CENTER 1515 E DIVISADERO\nWhen: WEDNESDAYS 530PM \nFor questions\, please contact: Irene Serrano 559-942-0708
URL:https://calhum.org/event/fresno-la-cultura-cura-healing-through-art-free-jarana-lessons/2025-04-16/
LOCATION:CHICANO YOUTH CENTER\, 1515 E Divisadero St\, FRESNO\, C\, 93721\, United States
CATEGORIES:Humanities for All Quick Grants
ATTACH;FMTTYPE=image/jpeg:https://calhum.org/wp-content/uploads/2025/03/LA-CULTURA-CURA-HEALING-THROUGH-ART-JARANA-CLASSES.jpg
GEO:36.7438544;-119.7930571
X-APPLE-STRUCTURED-LOCATION;VALUE=URI;X-ADDRESS=CHICANO YOUTH CENTER 1515 E Divisadero St FRESNO C 93721 United States;X-APPLE-RADIUS=500;X-TITLE=1515 E Divisadero St:geo:-119.7930571,36.7438544
END:VEVENT
BEGIN:VEVENT
DTSTART;TZID=America/Los_Angeles:20250421T180000
DTEND;TZID=America/Los_Angeles:20250421T200000
DTSTAMP:20260421T233603
CREATED:20250327T182346Z
LAST-MODIFIED:20250327T182709Z
UID:10002907-1745258400-1745265600@calhum.org
SUMMARY:San Francisco — The Chaplain & The Doctor film screening
DESCRIPTION:San Francisco & Berkeley — The Chaplain & The Doctor world premiere at the San Francisco International Film Festival. \nWhere: The Marina Theater\, 2149 Chestnut St\, San Francisco\, CA 94123\nWhen: 6:00pm\, Monday April 21st \nAND \nWhere: BAMPFA\, 2155 Center Street\, Berkeley\, CA 94720\nWhen: 4:30pm\, Wednesday April 23rd \nFor details\, see: URL
URL:https://calhum.org/event/san-francisco-the-chaplain-the-doctor-film-screening/
LOCATION:The Marina Theater\, 2149 Chestnut St\, San Francisco\, 94123\, United States
CATEGORIES:California Documentary Project
ATTACH;FMTTYPE=image/png:https://calhum.org/wp-content/uploads/2025/03/2025-Seed-and-Spark-Crowdfunding-Posts-1.png
GEO:37.8003111;-122.4385389
X-APPLE-STRUCTURED-LOCATION;VALUE=URI;X-ADDRESS=The Marina Theater 2149 Chestnut St San Francisco 94123 United States;X-APPLE-RADIUS=500;X-TITLE=2149 Chestnut St:geo:-122.4385389,37.8003111
END:VEVENT
BEGIN:VEVENT
DTSTART;TZID=America/Los_Angeles:20250423T173000
DTEND;TZID=America/Los_Angeles:20250423T183000
DTSTAMP:20260421T233603
CREATED:20250314T061142Z
LAST-MODIFIED:20250314T062535Z
UID:10002827-1745429400-1745433000@calhum.org
SUMMARY:FRESNO-LA CULTURA CURA: HEALING THROUGH ART-FREE JARANA LESSONS
DESCRIPTION:FRESNO- LA CULTURA CURA: HEALING THROUGH ARTS PROGRAM PRESENTS FREE JARANA GUITAR LESSONS! \nWhere: CHICANO YOUTH CENTER 1515 E DIVISADERO\nWhen: WEDNESDAYS 530PM \nFor questions\, please contact: Irene Serrano 559-942-0708
URL:https://calhum.org/event/fresno-la-cultura-cura-healing-through-art-free-jarana-lessons/2025-04-23/
LOCATION:CHICANO YOUTH CENTER\, 1515 E Divisadero St\, FRESNO\, C\, 93721\, United States
CATEGORIES:Humanities for All Quick Grants
ATTACH;FMTTYPE=image/jpeg:https://calhum.org/wp-content/uploads/2025/03/LA-CULTURA-CURA-HEALING-THROUGH-ART-JARANA-CLASSES.jpg
GEO:36.7438544;-119.7930571
X-APPLE-STRUCTURED-LOCATION;VALUE=URI;X-ADDRESS=CHICANO YOUTH CENTER 1515 E Divisadero St FRESNO C 93721 United States;X-APPLE-RADIUS=500;X-TITLE=1515 E Divisadero St:geo:-119.7930571,36.7438544
END:VEVENT
BEGIN:VEVENT
DTSTART;TZID=America/Los_Angeles:20250424T123000
DTEND;TZID=America/Los_Angeles:20250424T140000
DTSTAMP:20260421T233603
CREATED:20250130T181054Z
LAST-MODIFIED:20250130T181054Z
UID:10002782-1745497800-1745503200@calhum.org
SUMMARY:RANCHO CUCAMONGA: Sketchbook-Making Workshop
DESCRIPTION:Join Prof. Brody Albert to learn some basic bookbinding techniques and to create your own one-of-a-kind sketchbook! no experience necessary\, free and all supplies provided. space is limited. \nThursday\, April 24\n1230-2pm\nCAA-210\, Rancho Campus \nwww.chaffey.edu/wignall\nrebecca.trawick@chaffey.edu or 909/652-6493
URL:https://calhum.org/event/rancho-cucamonga-sketchbook-making-workshop/
LOCATION:Wignall Museum of Contemporary Art\, 5885 Haven Avenue\, Rancho Cucamonga\, CA\, 91737\, United States
CATEGORIES:Humanities for All Project Grants
ATTACH;FMTTYPE=image/jpeg:https://calhum.org/wp-content/uploads/2025/01/zomics_2025_sm-1.jpg
GEO:34.1483099;-117.5698707
X-APPLE-STRUCTURED-LOCATION;VALUE=URI;X-ADDRESS=Wignall Museum of Contemporary Art 5885 Haven Avenue Rancho Cucamonga CA 91737 United States;X-APPLE-RADIUS=500;X-TITLE=5885 Haven Avenue:geo:-117.5698707,34.1483099
END:VEVENT
BEGIN:VEVENT
DTSTART;TZID=America/Los_Angeles:20250429T190000
DTEND;TZID=America/Los_Angeles:20250429T210000
DTSTAMP:20260421T233603
CREATED:20241104T221630Z
LAST-MODIFIED:20241104T224353Z
UID:10000545-1745953200-1745960400@calhum.org
SUMMARY:PBS—FREE FOR ALL: THE PUBLIC LIBRARY National Broadcast Premiere
DESCRIPTION:PBS—FREE FOR ALL: THE PUBLIC LIBRARY premieres nationally on the Independent Lens\, PBS’ documentary film series. From award-winning filmmakers Dawn Logsdon and Lucie Faulknor\, FREE FOR ALL explores the history and role of public libraries in American life\, how a simple idea shaped a nation\, and the quiet revolutionaries who made it happen. \nWebsite: freeforallfilms.org/ \nTrailer: vimeo.com/522992718\nWhere: Independent Lens\, PBS\nWhen: April 29\, 2025\, check local listings \nFor details\, see: pbs.org/independentlens/documentaries/free-for-all/
URL:https://calhum.org/event/pbs-free-for-all-the-public-library-national-broadcast-premiere/
LOCATION:Virtual
CATEGORIES:California Documentary Project
ATTACH;FMTTYPE=image/png:https://calhum.org/wp-content/uploads/2024/11/Free-for-All-graphic.png
END:VEVENT
BEGIN:VEVENT
DTSTART;TZID=America/Los_Angeles:20250430T123000
DTEND;TZID=America/Los_Angeles:20250430T140000
DTSTAMP:20260421T233603
CREATED:20250213T174044Z
LAST-MODIFIED:20250213T174044Z
UID:10002796-1746016200-1746021600@calhum.org
SUMMARY:RANCHO CUCAMONGA—Zine workshop series
DESCRIPTION:RANCHO CUCAMONGA—Please join one or all in a series of zine-related art workshops presented in concert with The Arts Area. Local artists will lead these hands on workshop. No experience necessary\, all supplies provided. Space is limited. \nDrawing for Zine-making Wednesday\, February 19\, 1230-2pm  \nCyanotype for Zine-making Wednesday\, April 30\, 1230-2pm  \nZine-Making Session Wednesday\, May 7\, 1230-2pm  \nAll sessions in CAA-210\, Rancho  Campus \nWhere: Chaffey College\, CAA-210\, 5885 Haven Ave.\, Rancho Cucamonga\, CA 91737\nWhen: Feb. 5\, Feb. 19\, April 30\, May 7\, all 1230-2pm \nFor details\, see: www.chaffey.edu/wignall \nFor questions\, please contact: Rebecca Trawick\, Dir./Curator\, rebecca.trawick@chaffey.edu\, 909/652-6493
URL:https://calhum.org/event/rancho-cucamonga-zine-workshop-series-2/2025-04-30/
LOCATION:Wignall Museum of Contemporary Art\, 5885 Haven Avenue\, Rancho Cucamonga\, CA\, 91737\, United States
CATEGORIES:Humanities for All Project Grants
ATTACH;FMTTYPE=image/webp:https://calhum.org/wp-content/uploads/2025/02/zomics_graphics_2025-1.webp
ORGANIZER;CN="Rebecca Trawick":MAILTO:rebecca.trawick@chaffey.ed
GEO:34.1483099;-117.5698707
X-APPLE-STRUCTURED-LOCATION;VALUE=URI;X-ADDRESS=Wignall Museum of Contemporary Art 5885 Haven Avenue Rancho Cucamonga CA 91737 United States;X-APPLE-RADIUS=500;X-TITLE=5885 Haven Avenue:geo:-117.5698707,34.1483099
END:VEVENT
BEGIN:VEVENT
DTSTART;TZID=America/Los_Angeles:20250430T173000
DTEND;TZID=America/Los_Angeles:20250430T183000
DTSTAMP:20260421T233603
CREATED:20250314T061142Z
LAST-MODIFIED:20250314T062535Z
UID:10002828-1746034200-1746037800@calhum.org
SUMMARY:FRESNO-LA CULTURA CURA: HEALING THROUGH ART-FREE JARANA LESSONS
DESCRIPTION:FRESNO- LA CULTURA CURA: HEALING THROUGH ARTS PROGRAM PRESENTS FREE JARANA GUITAR LESSONS! \nWhere: CHICANO YOUTH CENTER 1515 E DIVISADERO\nWhen: WEDNESDAYS 530PM \nFor questions\, please contact: Irene Serrano 559-942-0708
URL:https://calhum.org/event/fresno-la-cultura-cura-healing-through-art-free-jarana-lessons/2025-04-30/
LOCATION:CHICANO YOUTH CENTER\, 1515 E Divisadero St\, FRESNO\, C\, 93721\, United States
CATEGORIES:Humanities for All Quick Grants
ATTACH;FMTTYPE=image/jpeg:https://calhum.org/wp-content/uploads/2025/03/LA-CULTURA-CURA-HEALING-THROUGH-ART-JARANA-CLASSES.jpg
GEO:36.7438544;-119.7930571
X-APPLE-STRUCTURED-LOCATION;VALUE=URI;X-ADDRESS=CHICANO YOUTH CENTER 1515 E Divisadero St FRESNO C 93721 United States;X-APPLE-RADIUS=500;X-TITLE=1515 E Divisadero St:geo:-119.7930571,36.7438544
END:VEVENT
END:VCALENDAR