BEGIN:VCALENDAR
VERSION:2.0
PRODID:-//California Humanities - ECPv6.15.18//NONSGML v1.0//EN
CALSCALE:GREGORIAN
METHOD:PUBLISH
X-ORIGINAL-URL:https://calhum.org
X-WR-CALDESC:Events for California Humanities
REFRESH-INTERVAL;VALUE=DURATION:PT1H
X-Robots-Tag:noindex
X-PUBLISHED-TTL:PT1H
BEGIN:VTIMEZONE
TZID:America/Los_Angeles
BEGIN:DAYLIGHT
TZOFFSETFROM:-0800
TZOFFSETTO:-0700
TZNAME:PDT
DTSTART:20220313T100000
END:DAYLIGHT
BEGIN:STANDARD
TZOFFSETFROM:-0700
TZOFFSETTO:-0800
TZNAME:PST
DTSTART:20221106T090000
END:STANDARD
BEGIN:DAYLIGHT
TZOFFSETFROM:-0800
TZOFFSETTO:-0700
TZNAME:PDT
DTSTART:20230312T100000
END:DAYLIGHT
BEGIN:STANDARD
TZOFFSETFROM:-0700
TZOFFSETTO:-0800
TZNAME:PST
DTSTART:20231105T090000
END:STANDARD
BEGIN:DAYLIGHT
TZOFFSETFROM:-0800
TZOFFSETTO:-0700
TZNAME:PDT
DTSTART:20240310T100000
END:DAYLIGHT
BEGIN:STANDARD
TZOFFSETFROM:-0700
TZOFFSETTO:-0800
TZNAME:PST
DTSTART:20241103T090000
END:STANDARD
END:VTIMEZONE
BEGIN:VEVENT
DTSTART;VALUE=DATE:20231001
DTEND;VALUE=DATE:20231003
DTSTAMP:20260423T093019
CREATED:20230404T003058Z
LAST-MODIFIED:20230607T053102Z
UID:10000003-1696179600-1696265999@calhum.org
SUMMARY:DEADLINE—Humanities for All Quick Grant
DESCRIPTION:Image: Stills from Humanities For All Quick Grant projects Chapter 510\, 1947 Partition Archive\, Geographies of Kinship\, UCI PrisonPandemic.  \nDEADLINE—Attention public humanities programmers! Do you have an idea for a public-facing humanities project you would like to implement within the next year? Do you need funds to carry out a plan you’ve already developed? Our next application round for Humanities for All Quick Grants opens on September 1\, 2023. Start the process by reviewing the Quick Grants homepage with an eye to the Guidelines and FAQs to learn more. Applications are due October 2\, 2023. \nQuick Grants (between $1\,000 and $5\,000) are awarded three times a year to small-scale public humanities programs and projects which take place within one year from the award date. Appropriate formats include but are not limited to community dialogues\, reading (or film) and discussion groups\, oral history or nonfiction writing or story-sharing workshops\, and other types of activities. Any California-based nonprofit organization or non-federal public agency is eligible to apply. Note: A cash or in-kind match of the award is NOT required. \nOn September 7\, 2023 at 11am PT\, California Humanities will host a free informational webinar on how to develop your application. Please register here in advance.  \nIf you have any questions\, contact Lucena Lau Valle at lvalle@calhum.org. 
URL:https://calhum.org/event/deadline-humanities-for-all-quick-grant-3-2023-10-02/
LOCATION:CA\, United States
CATEGORIES:Humanities for All Project Grants
ATTACH;FMTTYPE=image/jpeg:https://calhum.org/wp-content/uploads/2021/11/HFAQ-Grid-2021-910_512-scaled.jpg
GEO:36.778261;-119.4179324
END:VEVENT
BEGIN:VEVENT
DTSTART;VALUE=DATE:20231031
DTEND;VALUE=DATE:20231102
DTSTAMP:20260423T093019
CREATED:20230404T001442Z
LAST-MODIFIED:20230607T053053Z
UID:10000002-1698771600-1698857999@calhum.org
SUMMARY:DEADLINE—California Documentary Grants
DESCRIPTION:Image: Stills from CDP projects Song of Salt\, MIJA\, Sansón and Me\, Fanny: The Right to Rock. \nDEADLINE—Are you a mediamaker working on a California story? We invite applications for the next round of California Documentary Project (CDP) grants in support of film\, audio\, or digital media projects that document California subjects and issues; use the humanities to provide context\, depth\, and perspective; and have the potential to reach and engage audiences statewide and nationally through multiple means. \nFunding is available in two categories: \n\nResearch and Development Grants up to $15\,000 (new amount for 2023)\nProduction Grants up to $50\,000\n\nApplications open September 1\, 2023. This year’s application deadline is Wednesday\, November 1\, 2023\, 5 pm PT.  \nRegister HERE for a free CDP grant application informational webinar on September 13 at 10-11 am PDT. \nVisit the California Documentary Project grants page for guidelines\, application instructions\, a list of previously awarded projects\, and to register for a free informational webinar. Click HERE to apply. \nFor more information\, contact Director of Media & Journalism Programs\, John Lightfoot at jlightfoot@calhum.org.
URL:https://calhum.org/event/deadline-california-documentary-grants-2023-11-01/
LOCATION:CA\, United States
CATEGORIES:California Documentary Project
ATTACH;FMTTYPE=image/jpeg:https://calhum.org/wp-content/uploads/2022/09/CDP22-grid.jpeg
GEO:36.778261;-119.4179324
END:VEVENT
END:VCALENDAR