BEGIN:VCALENDAR
VERSION:2.0
PRODID:-//California Humanities - ECPv6.15.18//NONSGML v1.0//EN
CALSCALE:GREGORIAN
METHOD:PUBLISH
X-ORIGINAL-URL:https://calhum.org
X-WR-CALDESC:Events for California Humanities
REFRESH-INTERVAL;VALUE=DURATION:PT1H
X-Robots-Tag:noindex
X-PUBLISHED-TTL:PT1H
BEGIN:VTIMEZONE
TZID:America/Los_Angeles
BEGIN:DAYLIGHT
TZOFFSETFROM:-0800
TZOFFSETTO:-0700
TZNAME:PDT
DTSTART:20220313T100000
END:DAYLIGHT
BEGIN:STANDARD
TZOFFSETFROM:-0700
TZOFFSETTO:-0800
TZNAME:PST
DTSTART:20221106T090000
END:STANDARD
BEGIN:DAYLIGHT
TZOFFSETFROM:-0800
TZOFFSETTO:-0700
TZNAME:PDT
DTSTART:20230312T100000
END:DAYLIGHT
BEGIN:STANDARD
TZOFFSETFROM:-0700
TZOFFSETTO:-0800
TZNAME:PST
DTSTART:20231105T090000
END:STANDARD
BEGIN:DAYLIGHT
TZOFFSETFROM:-0800
TZOFFSETTO:-0700
TZNAME:PDT
DTSTART:20240310T100000
END:DAYLIGHT
BEGIN:STANDARD
TZOFFSETFROM:-0700
TZOFFSETTO:-0800
TZNAME:PST
DTSTART:20241103T090000
END:STANDARD
END:VTIMEZONE
BEGIN:VEVENT
DTSTART;TZID=America/Los_Angeles:20231021T110000
DTEND;TZID=America/Los_Angeles:20231021T150000
DTSTAMP:20260425T085331
CREATED:20231011T215549Z
LAST-MODIFIED:20231011T225023Z
UID:10000168-1697886000-1697900400@calhum.org
SUMMARY:SANTA PAULA–Mountain to Sea Jubilee
DESCRIPTION:SANTA PAULA—October 21 is a “big bash” to celebrate the 150th Anniversary of Ventura County\, part of a series of events that will be hosted into November. A Mountain to the Sea Jubilee will be held in Santa Paula and will feature community performances\, interactive booths\, and the opening of the Ventura County\, the Place We Call Home exhibit.  \nWhere: Agriculture Museum\, Museum of Ventura County | 926 Railroad Avenue\, Santa Paula\, CA 93060 \nWhen: 11 am–3 pm \nFREE and open to the public! \nOther project-supported events include: \n· The Japanese American Experience in Ventura County\, by Dr. Lily Anne Welty-Tamai\, California State University Channel Islands\, Oct. 25 in Camarillo. \n· “The Ramona Story: Film Screening and Discussion\,” at Rancho Camulos Museum\, Oct. 28\, in Piru. \n· History is Now Photography Exhibit curated by Focus on the Masters\, in Thousand Oaks\, Now through Nov. 5\, Exhibit Walkthrough\, Oct. 26. \n· El Bracero: A Mariachi Opera at the Fillmore Town Theatre\, presented by the ÁNIMO Theatre Company\, Nov. 10\, in Fillmore. \n· “A Celebration of the Indigenous Peoples of Ventura County for Native American Heritage Month\,” at the Chumash Indian Museum\, Nov. 12 in Thousand Oaks. \nMore information on all the County of Ventura’s 150th Anniversary events\, including dates\, times\, and locations is available on the dedicated website\, venturacounty150.com. On the website\, visitors can also explore the full roster of 150th Anniversary events and even submit their own favorite moments in Ventura County through VC150 Memories Project. \nThis project is supported by a Humanities for All Project Grant. 
URL:https://calhum.org/event/santa-paula-mountain-to-sea-jubilee/
LOCATION:Agriculture Museum — Museum of Ventura County\, 926 Railroad Avenue\, Santa Paula\, 93060\, United States
CATEGORIES:Humanities for All Project Grants
ATTACH;FMTTYPE=image/jpeg:https://calhum.org/wp-content/uploads/2023/10/County-of-Ventura-Mountains-to-Sea.jpg
GEO:34.355642;-119.0625296
X-APPLE-STRUCTURED-LOCATION;VALUE=URI;X-ADDRESS=Agriculture Museum — Museum of Ventura County 926 Railroad Avenue Santa Paula 93060 United States;X-APPLE-RADIUS=500;X-TITLE=926 Railroad Avenue:geo:-119.0625296,34.355642
END:VEVENT
END:VCALENDAR