BEGIN:VCALENDAR
VERSION:2.0
PRODID:-//California Humanities - ECPv6.15.18//NONSGML v1.0//EN
CALSCALE:GREGORIAN
METHOD:PUBLISH
X-ORIGINAL-URL:https://calhum.org
X-WR-CALDESC:Events for California Humanities
REFRESH-INTERVAL;VALUE=DURATION:PT1H
X-Robots-Tag:noindex
X-PUBLISHED-TTL:PT1H
BEGIN:VTIMEZONE
TZID:America/Los_Angeles
BEGIN:DAYLIGHT
TZOFFSETFROM:-0800
TZOFFSETTO:-0700
TZNAME:PDT
DTSTART:20220313T100000
END:DAYLIGHT
BEGIN:STANDARD
TZOFFSETFROM:-0700
TZOFFSETTO:-0800
TZNAME:PST
DTSTART:20221106T090000
END:STANDARD
BEGIN:DAYLIGHT
TZOFFSETFROM:-0800
TZOFFSETTO:-0700
TZNAME:PDT
DTSTART:20230312T100000
END:DAYLIGHT
BEGIN:STANDARD
TZOFFSETFROM:-0700
TZOFFSETTO:-0800
TZNAME:PST
DTSTART:20231105T090000
END:STANDARD
BEGIN:DAYLIGHT
TZOFFSETFROM:-0800
TZOFFSETTO:-0700
TZNAME:PDT
DTSTART:20240310T100000
END:DAYLIGHT
BEGIN:STANDARD
TZOFFSETFROM:-0700
TZOFFSETTO:-0800
TZNAME:PST
DTSTART:20241103T090000
END:STANDARD
END:VTIMEZONE
BEGIN:VEVENT
DTSTART;TZID=America/Los_Angeles:20231017T163000
DTEND;TZID=America/Los_Angeles:20231017T183000
DTSTAMP:20260420T133034
CREATED:20230927T205439Z
LAST-MODIFIED:20230928T154000Z
UID:10000156-1697560200-1697567400@calhum.org
SUMMARY:SAN BERNARDINO–Black Latina performance and discussion
DESCRIPTION:SAN BERNARDINO—A production of Black Latina Movement\, Black Latina is the story of being a Black Latina in the US. Whether born with dark skin\, or African American and Hispanic\, the production is the journey of one’s struggle to identify with both cultures. \nPanel discussion and reception with light snacks to follow. \n* Parking at CSUSB requires a visitor’s permit ($6 per vehicle). \nWhen: Tuesday\, October 17 | 4:30-6:30 pm \nWhere: California State University\, San Bernardino | Santos Manual Student Union (SMSU) South Theatre \nFree and open to the public\, first arrived first seated. \nThis performance is a supported program of CSUSB’s Afróntalo exhibit. Exhibit runs September 21\, 2023 – June 19\, 2024 \nLearn more at on the project’s website. \nThis project is supported by a Humanities for All Project Grant. 
URL:https://calhum.org/event/black-latina-performance-and-discussion/
LOCATION:California State University\, San Bernardino\, 5500 University Parkway\, San Bernardino\, CA\, 92407\, United States
CATEGORIES:Humanities for All Project Grants
ATTACH;FMTTYPE=image/png:https://calhum.org/wp-content/uploads/2023/09/Black-Latina-Play.png
GEO:34.1823332;-117.3268484
X-APPLE-STRUCTURED-LOCATION;VALUE=URI;X-ADDRESS=California State University San Bernardino 5500 University Parkway San Bernardino CA 92407 United States;X-APPLE-RADIUS=500;X-TITLE=5500 University Parkway:geo:-117.3268484,34.1823332
END:VEVENT
END:VCALENDAR