BEGIN:VCALENDAR
VERSION:2.0
PRODID:-//California Humanities - ECPv6.15.18//NONSGML v1.0//EN
CALSCALE:GREGORIAN
METHOD:PUBLISH
X-ORIGINAL-URL:https://calhum.org
X-WR-CALDESC:Events for California Humanities
REFRESH-INTERVAL;VALUE=DURATION:PT1H
X-Robots-Tag:noindex
X-PUBLISHED-TTL:PT1H
BEGIN:VTIMEZONE
TZID:America/Los_Angeles
BEGIN:DAYLIGHT
TZOFFSETFROM:-0800
TZOFFSETTO:-0700
TZNAME:PDT
DTSTART:20230312T100000
END:DAYLIGHT
BEGIN:STANDARD
TZOFFSETFROM:-0700
TZOFFSETTO:-0800
TZNAME:PST
DTSTART:20231105T090000
END:STANDARD
BEGIN:DAYLIGHT
TZOFFSETFROM:-0800
TZOFFSETTO:-0700
TZNAME:PDT
DTSTART:20240310T100000
END:DAYLIGHT
BEGIN:STANDARD
TZOFFSETFROM:-0700
TZOFFSETTO:-0800
TZNAME:PST
DTSTART:20241103T090000
END:STANDARD
BEGIN:DAYLIGHT
TZOFFSETFROM:-0800
TZOFFSETTO:-0700
TZNAME:PDT
DTSTART:20250309T100000
END:DAYLIGHT
BEGIN:STANDARD
TZOFFSETFROM:-0700
TZOFFSETTO:-0800
TZNAME:PST
DTSTART:20251102T090000
END:STANDARD
END:VTIMEZONE
BEGIN:VEVENT
DTSTART;TZID=America/Los_Angeles:20241109T100000
DTEND;TZID=America/Los_Angeles:20241109T130000
DTSTAMP:20260424T092015
CREATED:20240920T204845Z
LAST-MODIFIED:20240920T213113Z
UID:10000485-1731146400-1731157200@calhum.org
SUMMARY:CARPINTERIA—Family History Day
DESCRIPTION:CARPINTERIA—The Carpinteria Valley Museum of History is hosting a free Family History Day that will feature fourteen interactive stations ranging from using a vintage apple press\, making rope\, and completing then/now timelines\, puzzles\, and games to experiencing a one-room schoolhouse\, testing stereoviewers\, and operating cameras from past eras. The event will include hands-on learning and interactive stations designed for all families. \nWhere: Carpinteria Valley Museum of History\, 956 Maple Ave.\, Carpinteria\, CA 93013\nWhen: Saturday\, November 9\, 2024 from 10 am to 1 pm \nFor details\, see: Family Day | carpinteriamuseum (carpinteriahistoricalmuseum.org) \n \nFor questions\, please contact: info@carpinteriahistoricalmuseum.org or call 805-684-3112
URL:https://calhum.org/event/carpinteria-family-history-day/
LOCATION:Carpinteria Valley Museum of History\, Maple Avenue\, Carpinteria\, C\, 93013\, United States
CATEGORIES:Humanities for All Quick Grants
ATTACH;FMTTYPE=image/png:https://calhum.org/wp-content/uploads/2024/09/CVMH_Family-Day-Flyer_Photo.png
GEO:34.3974756;-119.5177213
X-APPLE-STRUCTURED-LOCATION;VALUE=URI;X-ADDRESS=Carpinteria Valley Museum of History Maple Avenue Carpinteria C 93013 United States;X-APPLE-RADIUS=500;X-TITLE=Maple Avenue:geo:-119.5177213,34.3974756
END:VEVENT
END:VCALENDAR