BEGIN:VCALENDAR
VERSION:2.0
PRODID:-//California Humanities - ECPv6.15.18//NONSGML v1.0//EN
CALSCALE:GREGORIAN
METHOD:PUBLISH
X-ORIGINAL-URL:https://calhum.org
X-WR-CALDESC:Events for California Humanities
REFRESH-INTERVAL;VALUE=DURATION:PT1H
X-Robots-Tag:noindex
X-PUBLISHED-TTL:PT1H
BEGIN:VTIMEZONE
TZID:America/Los_Angeles
BEGIN:DAYLIGHT
TZOFFSETFROM:-0800
TZOFFSETTO:-0700
TZNAME:PDT
DTSTART:20230312T100000
END:DAYLIGHT
BEGIN:STANDARD
TZOFFSETFROM:-0700
TZOFFSETTO:-0800
TZNAME:PST
DTSTART:20231105T090000
END:STANDARD
BEGIN:DAYLIGHT
TZOFFSETFROM:-0800
TZOFFSETTO:-0700
TZNAME:PDT
DTSTART:20240310T100000
END:DAYLIGHT
BEGIN:STANDARD
TZOFFSETFROM:-0700
TZOFFSETTO:-0800
TZNAME:PST
DTSTART:20241103T090000
END:STANDARD
BEGIN:DAYLIGHT
TZOFFSETFROM:-0800
TZOFFSETTO:-0700
TZNAME:PDT
DTSTART:20250309T100000
END:DAYLIGHT
BEGIN:STANDARD
TZOFFSETFROM:-0700
TZOFFSETTO:-0800
TZNAME:PST
DTSTART:20251102T090000
END:STANDARD
END:VTIMEZONE
BEGIN:VEVENT
DTSTART;TZID=America/Los_Angeles:20241012T113000
DTEND;TZID=America/Los_Angeles:20241012T133000
DTSTAMP:20260423T145059
CREATED:20240919T200108Z
LAST-MODIFIED:20240919T200108Z
UID:10000479-1728732600-1728739800@calhum.org
SUMMARY:CORONA—PEACEFUL DREAMS Exhibit\, Art Project\, and Performance
DESCRIPTION:CORONA—Join a day filled with artistic and cultural exploration for all ages! Event highlights: \n\nArt EXHIBIT & artist-led collaborative community painting PROJECT with Russian artist Arina Kirilina\n“Puppets for Peace” Interactive PERFORMANCE with Nicole Cloeren from Puppets A la Carte\,\nChildren’s CHOIR performance led by Natalia Rasulova\nTraditional Russian TREATS!\n\nThis event is part of an event series that seeks to increase the visibility of Russian-Speaking community perspectives within the local context. \nWhere: Home Gardens Library\, 3785 Neece St. Corona\, CA 92879\nWhen: Saturday October 12 11:30 am – 1:30pm \nFor details\, see: https://rivlib.libcal.com/event/13173985 \nFor questions\, please contact Anna Bekker at anna.bekker@rivlib.net.
URL:https://calhum.org/event/corona-peaceful-dreams-exhibit-art-project-and-performance/
LOCATION:Home Gardens Library\, 3785 Neece Street\, Corona\, CA\, 92879\, United States
CATEGORIES:Library Innovation Lab
ATTACH;FMTTYPE=image/png:https://calhum.org/wp-content/uploads/2024/09/Annas-Post-Card-Front.png
END:VEVENT
BEGIN:VEVENT
DTSTART;VALUE=DATE:20241001
DTEND;VALUE=DATE:20241002
DTSTAMP:20260423T145059
CREATED:20240919T201726Z
LAST-MODIFIED:20240919T201726Z
UID:10000483-1727800200-1727803800@calhum.org
SUMMARY:CORONA—Embroidery Circle with Arina Kirilina
DESCRIPTION:CORONA—Although embroidery is found globally\, it took on particular cultural significance in Russia and Ukraine. Join Russian Artist Arina Kirilina for a workshop series filled with artistic and cultural exploration\, as she puts a modern twist on this centuries-old tradition Disconnect from the outside world\, embrace creativity and share your stories! \nWhere: Home Gardens Library\, 3785 Neece St. Corona\, CA 92879\nWhen: Tuesdays at 4:30-5:30pm; September 17\, 24 + October 1st \nSpanish/Russian translation available. Ages 15+ \nThis event is part of PEACEFUL DREAMS\, an event series that seeks to increase the visibility of Russian-Speaking community perspectives within the local context. \nFor questions\, please contact Anna Bekker at anna.bekker@rivlib.net.
URL:https://calhum.org/event/corona-embroidery-circle-with-arina-kirilina/2024-10-01/
LOCATION:Home Gardens Library\, 3785 Neece Street\, Corona\, CA\, 92879\, United States
CATEGORIES:Library Innovation Lab
ATTACH;FMTTYPE=image/png:https://calhum.org/wp-content/uploads/2024/09/Brand-Fonts-8.png
END:VEVENT
END:VCALENDAR