BEGIN:VCALENDAR
VERSION:2.0
PRODID:-//California Humanities - ECPv6.15.18//NONSGML v1.0//EN
CALSCALE:GREGORIAN
METHOD:PUBLISH
X-ORIGINAL-URL:https://calhum.org
X-WR-CALDESC:Events for California Humanities
REFRESH-INTERVAL;VALUE=DURATION:PT1H
X-Robots-Tag:noindex
X-PUBLISHED-TTL:PT1H
BEGIN:VTIMEZONE
TZID:America/Los_Angeles
BEGIN:DAYLIGHT
TZOFFSETFROM:-0800
TZOFFSETTO:-0700
TZNAME:PDT
DTSTART:20230312T100000
END:DAYLIGHT
BEGIN:STANDARD
TZOFFSETFROM:-0700
TZOFFSETTO:-0800
TZNAME:PST
DTSTART:20231105T090000
END:STANDARD
BEGIN:DAYLIGHT
TZOFFSETFROM:-0800
TZOFFSETTO:-0700
TZNAME:PDT
DTSTART:20240310T100000
END:DAYLIGHT
BEGIN:STANDARD
TZOFFSETFROM:-0700
TZOFFSETTO:-0800
TZNAME:PST
DTSTART:20241103T090000
END:STANDARD
BEGIN:DAYLIGHT
TZOFFSETFROM:-0800
TZOFFSETTO:-0700
TZNAME:PDT
DTSTART:20250309T100000
END:DAYLIGHT
BEGIN:STANDARD
TZOFFSETFROM:-0700
TZOFFSETTO:-0800
TZNAME:PST
DTSTART:20251102T090000
END:STANDARD
END:VTIMEZONE
BEGIN:VEVENT
DTSTART;TZID=America/Los_Angeles:20241109T160000
DTEND;TZID=America/Los_Angeles:20241109T180000
DTSTAMP:20260422T101810
CREATED:20241112T171233Z
LAST-MODIFIED:20241112T171233Z
UID:10000546-1731168000-1731175200@calhum.org
SUMMARY:Davis - Acorn Stories: A Welcoming to Wintun Homeland
DESCRIPTION:Davis\, CA — Join us for this second annual fall gathering. We are building a community that is committed to learning the responsibility and discipline of healing and restoring right relations with the Yolo bioregion. Native Californian cultural practitioners Diana and Christina Almendariz and guests will share traditional ecological knowledge across generations. The event will include storytelling\, hands-on arts and acorn activities\, and a cultural exhibit. \nWhere: International House Davis\, 10 College Park\, Davis CA\nWhen: Saturday\, November 9\, 4-6 pm \nFor details\, see: internationalhousedavis.org/event/acorn-stories-a-welcome-to-wintun-homeland/ \nFor questions\, please contact: info@yolosol.org
URL:https://calhum.org/event/davis-acorn-stories-a-welcoming-to-wintun-homeland/
LOCATION:International House\, UC Davis\, One Shields Aenue\, Davis\, CA\, 95616\, United States
CATEGORIES:Humanities for All Quick Grants
ATTACH;FMTTYPE=image/png:https://calhum.org/wp-content/uploads/2024/11/Acorn-Stories-Social-media1.png
END:VEVENT
END:VCALENDAR