BEGIN:VCALENDAR
VERSION:2.0
PRODID:-//California Humanities - ECPv6.15.18//NONSGML v1.0//EN
CALSCALE:GREGORIAN
METHOD:PUBLISH
X-ORIGINAL-URL:https://calhum.org
X-WR-CALDESC:Events for California Humanities
REFRESH-INTERVAL;VALUE=DURATION:PT1H
X-Robots-Tag:noindex
X-PUBLISHED-TTL:PT1H
BEGIN:VTIMEZONE
TZID:America/Los_Angeles
BEGIN:DAYLIGHT
TZOFFSETFROM:-0800
TZOFFSETTO:-0700
TZNAME:PDT
DTSTART:20230312T100000
END:DAYLIGHT
BEGIN:STANDARD
TZOFFSETFROM:-0700
TZOFFSETTO:-0800
TZNAME:PST
DTSTART:20231105T090000
END:STANDARD
BEGIN:DAYLIGHT
TZOFFSETFROM:-0800
TZOFFSETTO:-0700
TZNAME:PDT
DTSTART:20240310T100000
END:DAYLIGHT
BEGIN:STANDARD
TZOFFSETFROM:-0700
TZOFFSETTO:-0800
TZNAME:PST
DTSTART:20241103T090000
END:STANDARD
BEGIN:DAYLIGHT
TZOFFSETFROM:-0800
TZOFFSETTO:-0700
TZNAME:PDT
DTSTART:20250309T100000
END:DAYLIGHT
BEGIN:STANDARD
TZOFFSETFROM:-0700
TZOFFSETTO:-0800
TZNAME:PST
DTSTART:20251102T090000
END:STANDARD
END:VTIMEZONE
BEGIN:VEVENT
DTSTART;VALUE=DATE:20240430
DTEND;VALUE=DATE:20240731
DTSTAMP:20260421T115901
CREATED:20240501T010735Z
LAST-MODIFIED:20240501T010735Z
UID:10000317-1714435200-1722383999@calhum.org
SUMMARY:SAN FRANCISCO—How the Development of Treasure Island Addresses Sea Level Rise
DESCRIPTION:SAN FRANCISCO TREASURE ISLAND—Do you have questions about how the current redevelopment of the island has anticipated and prepared for climate change\, earthquakes\, and sea level rise? Our current exhibition has answers. \nWhere: One Avenue of the Palms\, San Francisco\, 93041\nWhen: Open daily. 10am to 7pm. \nFor details\, see: https://www.treasureislandmuseum.org/single-post/our-new-exhibition
URL:https://calhum.org/event/san-francisco-how-the-development-of-treasure-island-addresses-sea-level-rise/
LOCATION:One Avenue of the Palms\, One Avenue of the Palms\, San Francisco\, CA\, 93041\, United States
CATEGORIES:Humanities for All Quick Grants
ATTACH;FMTTYPE=image/png:https://calhum.org/wp-content/uploads/2024/04/Screenshot-2024-04-30-at-6.04.15-PM.png
GEO:37.8193995;-122.373984
X-APPLE-STRUCTURED-LOCATION;VALUE=URI;X-ADDRESS=One Avenue of the Palms One Avenue of the Palms San Francisco CA 93041 United States;X-APPLE-RADIUS=500;X-TITLE=One Avenue of the Palms:geo:-122.373984,37.8193995
END:VEVENT
END:VCALENDAR