BEGIN:VCALENDAR
VERSION:2.0
PRODID:-//California Humanities - ECPv6.15.18//NONSGML v1.0//EN
CALSCALE:GREGORIAN
METHOD:PUBLISH
X-ORIGINAL-URL:https://calhum.org
X-WR-CALDESC:Events for California Humanities
REFRESH-INTERVAL;VALUE=DURATION:PT1H
X-Robots-Tag:noindex
X-PUBLISHED-TTL:PT1H
BEGIN:VTIMEZONE
TZID:America/Los_Angeles
BEGIN:DAYLIGHT
TZOFFSETFROM:-0800
TZOFFSETTO:-0700
TZNAME:PDT
DTSTART:20230312T100000
END:DAYLIGHT
BEGIN:STANDARD
TZOFFSETFROM:-0700
TZOFFSETTO:-0800
TZNAME:PST
DTSTART:20231105T090000
END:STANDARD
BEGIN:DAYLIGHT
TZOFFSETFROM:-0800
TZOFFSETTO:-0700
TZNAME:PDT
DTSTART:20240310T100000
END:DAYLIGHT
BEGIN:STANDARD
TZOFFSETFROM:-0700
TZOFFSETTO:-0800
TZNAME:PST
DTSTART:20241103T090000
END:STANDARD
BEGIN:DAYLIGHT
TZOFFSETFROM:-0800
TZOFFSETTO:-0700
TZNAME:PDT
DTSTART:20250309T100000
END:DAYLIGHT
BEGIN:STANDARD
TZOFFSETFROM:-0700
TZOFFSETTO:-0800
TZNAME:PST
DTSTART:20251102T090000
END:STANDARD
END:VTIMEZONE
BEGIN:VEVENT
DTSTART;TZID=America/Los_Angeles:20241005T160000
DTEND;TZID=America/Los_Angeles:20241005T200000
DTSTAMP:20260421T091058
CREATED:20240912T152007Z
LAST-MODIFIED:20240912T154714Z
UID:10000469-1728144000-1728158400@calhum.org
SUMMARY:KOREATOWN\, LOS ANGELES—(re)Location Exhibition Opening
DESCRIPTION:KOREATOWN\, LOS ANGELES—(re)Location amplifies the histories of the Lao and Korean communities\, creating a sense of connection to the untold stories of their respective elder populations\, and deepens understanding of the experiences of refugees and immigrants in the aftermath of war. \nWe invite you to an exhibition that shares the stories and artifacts of migration and adaptation of our elder Lao refugees and Korean immigrants who settled in the US in the 70s and 80s. \nWhere: Oriental Mission Church\, 424 N Western Ave.\, Los Angeles\, 90004\nWhen: 4 pm-8 pm | Saturday\, October 5\, 2024\nLight refreshments served.  Programming begins at 5 pm \nFor details and register for free\, see: URL \nFor questions\, please contact: Joyce Green\, joyce.green@lmu.edu
URL:https://calhum.org/event/koreatown-los-angeles-relocation-exhibition/
LOCATION:Oriental Mission Church\, 424 N Western Avenue\, Los Angeles\, CA\, 90004\, United States
CATEGORIES:Humanities for All Project Grants
ATTACH;FMTTYPE=image/jpeg:https://calhum.org/wp-content/uploads/2024/09/reLocation-Exhibit-Flier.jpg
GEO:34.0789689;-118.3088428
X-APPLE-STRUCTURED-LOCATION;VALUE=URI;X-ADDRESS=Oriental Mission Church 424 N Western Avenue Los Angeles CA 90004 United States;X-APPLE-RADIUS=500;X-TITLE=424 N Western Avenue:geo:-118.3088428,34.0789689
END:VEVENT
BEGIN:VEVENT
DTSTART;VALUE=DATE:20241005
DTEND;VALUE=DATE:20241020
DTSTAMP:20260421T091058
CREATED:20240912T152936Z
LAST-MODIFIED:20240912T154517Z
UID:10000470-1728086400-1729382399@calhum.org
SUMMARY:KOREATOWN\, LOS ANGELES—(re)Location Exhibition
DESCRIPTION:KOREATOWN\, LOS ANGELES—(re)Location amplifies the histories of the Lao and Korean communities\, creating a sense of connection to the untold stories of their respective elder populations\, and deepens understanding of the experiences of refugees and immigrants in the aftermath of war. \nWe invite you to an exhibition that shares the stories and artifacts of migration and adaptation of our elder Lao refugees and Korean immigrants who settled in the US in the 70s and 80s. \nWhere: Oriental Mission Church\, 424 N Western Ave.\, Los Angeles\, 90004\nWhen: Runs October 5\, 2024–October 19\, 2024\nOpen to the public Thursdays and Fridays (4-7 pm)\, and Saturdays (12-4 pm) \nFree parking onsite. Online exhibition (coming soon) will be on view indefinitely. \nFor details and register for free\, see: URL \nFor questions\, please contact: Joyce Green\, joyce.green@lmu.edu
URL:https://calhum.org/event/koreatown-los-angeles-relocation-exhibition-run/
LOCATION:Oriental Mission Church\, 424 N Western Avenue\, Los Angeles\, CA\, 90004\, United States
CATEGORIES:Humanities for All Project Grants
ATTACH;FMTTYPE=image/jpeg:https://calhum.org/wp-content/uploads/2024/09/reLocation-Exhibit-Flier.jpg
GEO:34.0789689;-118.3088428
X-APPLE-STRUCTURED-LOCATION;VALUE=URI;X-ADDRESS=Oriental Mission Church 424 N Western Avenue Los Angeles CA 90004 United States;X-APPLE-RADIUS=500;X-TITLE=424 N Western Avenue:geo:-118.3088428,34.0789689
END:VEVENT
END:VCALENDAR