BEGIN:VCALENDAR
VERSION:2.0
PRODID:-//California Humanities - ECPv6.15.18//NONSGML v1.0//EN
CALSCALE:GREGORIAN
METHOD:PUBLISH
X-ORIGINAL-URL:https://calhum.org
X-WR-CALDESC:Events for California Humanities
REFRESH-INTERVAL;VALUE=DURATION:PT1H
X-Robots-Tag:noindex
X-PUBLISHED-TTL:PT1H
BEGIN:VTIMEZONE
TZID:America/Los_Angeles
BEGIN:DAYLIGHT
TZOFFSETFROM:-0800
TZOFFSETTO:-0700
TZNAME:PDT
DTSTART:20230312T100000
END:DAYLIGHT
BEGIN:STANDARD
TZOFFSETFROM:-0700
TZOFFSETTO:-0800
TZNAME:PST
DTSTART:20231105T090000
END:STANDARD
BEGIN:DAYLIGHT
TZOFFSETFROM:-0800
TZOFFSETTO:-0700
TZNAME:PDT
DTSTART:20240310T100000
END:DAYLIGHT
BEGIN:STANDARD
TZOFFSETFROM:-0700
TZOFFSETTO:-0800
TZNAME:PST
DTSTART:20241103T090000
END:STANDARD
BEGIN:DAYLIGHT
TZOFFSETFROM:-0800
TZOFFSETTO:-0700
TZNAME:PDT
DTSTART:20250309T100000
END:DAYLIGHT
BEGIN:STANDARD
TZOFFSETFROM:-0700
TZOFFSETTO:-0800
TZNAME:PST
DTSTART:20251102T090000
END:STANDARD
END:VTIMEZONE
BEGIN:VEVENT
DTSTART;TZID=America/Los_Angeles:20241104T100000
DTEND;TZID=America/Los_Angeles:20241109T170000
DTSTAMP:20260422T103612
CREATED:20240927T155420Z
LAST-MODIFIED:20240927T171433Z
UID:10000498-1730714400-1731171600@calhum.org
SUMMARY:SANTA FE SPRINGS—Library of Stories\, Flavors\, and Sounds
DESCRIPTION:SANTA FE SPRINGS—Join us for the Library of Stories\, Flavors\, and Sounds\, a vibrant weeklong celebration of Korean and Mexican immigrant experiences happening November 4–9\, 2024! Immerse yourself in the rich cultural heritage of both communities through memorable activities. Throughout the week members of the community can attend readings by local authors including Mirelle Ortega\, Reynaldo Mora\, Helena Ku Rhee\, and Susie Yi. Dive into creativity with interactive art workshops like “Colors of Our Community” and “Mapping Our Story.” Experience the joy of music with lively performances featuring Mexican folklore and sounds by Cascada de Flores\, and be inspired by a special presentation of the Korean national anthem performed by local violinist Sara Jin. This weeklong celebration will end with a special presentation on Korean tea and dessert tasting by Youngmi Yi. Don’t miss this opportunity to connect\, create\, and celebrate together. \nWhere: Santa Fe Springs City Library | 11700 Telegraph Road\, Santa Fe Springs\, CA 90670\nWhen: For details\, see: sfslibrary.org \nEvents (click to enlarge): \n \nFor questions\, please contact: Olga Gonzalez at (562) 868-7738 ext. 7822
URL:https://calhum.org/event/santa-fe-springs-library-of-stories-flavors-and-sounds/
LOCATION:Santa Fe Springs City Library\, Telegraph Road\, Santa Fe Springs\, CA\, 90670\, United States
CATEGORIES:Library Innovation Lab
ATTACH;FMTTYPE=image/jpeg:https://calhum.org/wp-content/uploads/2024/09/1.jpg
GEO:33.9450549;-118.0839524
X-APPLE-STRUCTURED-LOCATION;VALUE=URI;X-ADDRESS=Santa Fe Springs City Library Telegraph Road Santa Fe Springs CA 90670 United States;X-APPLE-RADIUS=500;X-TITLE=Telegraph Road:geo:-118.0839524,33.9450549
END:VEVENT
END:VCALENDAR