BEGIN:VCALENDAR
VERSION:2.0
PRODID:-//California Humanities - ECPv6.15.18//NONSGML v1.0//EN
CALSCALE:GREGORIAN
METHOD:PUBLISH
X-ORIGINAL-URL:https://calhum.org
X-WR-CALDESC:Events for California Humanities
REFRESH-INTERVAL;VALUE=DURATION:PT1H
X-Robots-Tag:noindex
X-PUBLISHED-TTL:PT1H
BEGIN:VTIMEZONE
TZID:America/Los_Angeles
BEGIN:DAYLIGHT
TZOFFSETFROM:-0800
TZOFFSETTO:-0700
TZNAME:PDT
DTSTART:20230312T100000
END:DAYLIGHT
BEGIN:STANDARD
TZOFFSETFROM:-0700
TZOFFSETTO:-0800
TZNAME:PST
DTSTART:20231105T090000
END:STANDARD
BEGIN:DAYLIGHT
TZOFFSETFROM:-0800
TZOFFSETTO:-0700
TZNAME:PDT
DTSTART:20240310T100000
END:DAYLIGHT
BEGIN:STANDARD
TZOFFSETFROM:-0700
TZOFFSETTO:-0800
TZNAME:PST
DTSTART:20241103T090000
END:STANDARD
BEGIN:DAYLIGHT
TZOFFSETFROM:-0800
TZOFFSETTO:-0700
TZNAME:PDT
DTSTART:20250309T100000
END:DAYLIGHT
BEGIN:STANDARD
TZOFFSETFROM:-0700
TZOFFSETTO:-0800
TZNAME:PST
DTSTART:20251102T090000
END:STANDARD
END:VTIMEZONE
BEGIN:VEVENT
DTSTART;TZID=America/Los_Angeles:20241120T153000
DTEND;TZID=America/Los_Angeles:20241120T173000
DTSTAMP:20260419T050743
CREATED:20241108T224354Z
LAST-MODIFIED:20241108T224354Z
UID:10000551-1732116600-1732123800@calhum.org
SUMMARY:CULVER CITY—NEW WAVE Screens at the Asian World Film Festival
DESCRIPTION:CULVER CITY—Join us for a screening of NEW WAVE at The Culver Theater as part of the Asian World Film Festival (AWFF). Filmmaker Elizabeth Ai embarks on a journey to capture the vibrant spirit of a musical phenomenon that electrified Vietnamese American teens in the 1980s: New Wave. What begins as an exploration of the rebellion and freedom within this subculture evolves into a profound narrative of identity\, loss\, and healing. In Orange County\, California\, the synth beats and punk/goth aesthetics provided a sanctuary for a generation of youth grappling with the weight of their parents’ unspoken traumas. \n \nWhere: The Culver Theater – Auditorium 6\, 9500 Culver Blvd\, Culver City\, 90232 \nWhen: Wednesday\, November 20\, 2024\, 3:30 pm \nFor details\, see: https://vivenu.com/event/new-wave-vietnam-b2ic7p
URL:https://calhum.org/event/culver-city-new-wave-screens-at-the-asian-world-film-festival/
LOCATION:The Culver Theater\, Culver Boulevard 9500\, Culver City\, California\, 90232\, United States
CATEGORIES:California Documentary Project
ATTACH;FMTTYPE=image/jpeg:https://calhum.org/wp-content/uploads/2024/11/newwave-3.jpg
GEO:34.0234499;-118.3940916
X-APPLE-STRUCTURED-LOCATION;VALUE=URI;X-ADDRESS=The Culver Theater Culver Boulevard 9500 Culver City California 90232 United States;X-APPLE-RADIUS=500;X-TITLE=Culver Boulevard 9500:geo:-118.3940916,34.0234499
END:VEVENT
END:VCALENDAR