BEGIN:VCALENDAR
VERSION:2.0
PRODID:-//California Humanities - ECPv6.15.18//NONSGML v1.0//EN
CALSCALE:GREGORIAN
METHOD:PUBLISH
X-ORIGINAL-URL:https://calhum.org
X-WR-CALDESC:Events for California Humanities
REFRESH-INTERVAL;VALUE=DURATION:PT1H
X-Robots-Tag:noindex
X-PUBLISHED-TTL:PT1H
BEGIN:VTIMEZONE
TZID:America/Los_Angeles
BEGIN:DAYLIGHT
TZOFFSETFROM:-0800
TZOFFSETTO:-0700
TZNAME:PDT
DTSTART:20230312T100000
END:DAYLIGHT
BEGIN:STANDARD
TZOFFSETFROM:-0700
TZOFFSETTO:-0800
TZNAME:PST
DTSTART:20231105T090000
END:STANDARD
BEGIN:DAYLIGHT
TZOFFSETFROM:-0800
TZOFFSETTO:-0700
TZNAME:PDT
DTSTART:20240310T100000
END:DAYLIGHT
BEGIN:STANDARD
TZOFFSETFROM:-0700
TZOFFSETTO:-0800
TZNAME:PST
DTSTART:20241103T090000
END:STANDARD
BEGIN:DAYLIGHT
TZOFFSETFROM:-0800
TZOFFSETTO:-0700
TZNAME:PDT
DTSTART:20250309T100000
END:DAYLIGHT
BEGIN:STANDARD
TZOFFSETFROM:-0700
TZOFFSETTO:-0800
TZNAME:PST
DTSTART:20251102T090000
END:STANDARD
END:VTIMEZONE
BEGIN:VEVENT
DTSTART;TZID=America/Los_Angeles:20241003T173000
DTEND;TZID=America/Los_Angeles:20241003T193000
DTSTAMP:20260425T082151
CREATED:20240807T212254Z
LAST-MODIFIED:20240924T190403Z
UID:10000396-1727976600-1727983800@calhum.org
SUMMARY:SACRAMENTO—How Can California Overcome Its Voter Disillusionment?
DESCRIPTION:SACRAMENTO—California’s voting system has been overhauled with mail-in ballots and same-day registration\, yet turnout remains notably low. Why does our richly diverse state fail to translate into representative turnout\, and what alchemy might revive it? Explore California’s practical strategies for local\, state\, and federal elections and uncover what works—and what doesn’t. Learn from the state’s election history since 1960 and see how these insights could improve voter participation across the country. \nJoin California Humanities\, Capital Public Radio\, and the J.B. McClatchy Foundation for a free public panel and reception at the Sacramento Public Library Galleria on Thursday\, October 3. \nSchedule: \n5:30 pm–6 pm: Drinks and hors d’oeuvres \n6 pm–7:15 pm: Panel \n7:15 pm–8 pm: Reception \nSpeakers: \nTere Flores Onofre\, Director of Programs & Strategy\, Sacramento ACT \nMindy Romero\, Founder and Director\, Center for Inclusive Democracy (CID)\, at USC Sol Price School of Public Policy \nDr. Christopher Towler\, Associate Professor\, California State University\, Sacramento\, and Director\, Black Voter Project \nModerated by: \nChris Nichols\, Politics Editor\, Capitol Public Radio \nRSVP for free here: bit.ly/librarygalleria \nFor more information\, please write to Kirsten Vega at kvega@calhum.org. \nThrough California On The Ballot\, California Humanities invites the people of California and beyond to reflect and talk about the past\, present\, and future of electoral engagement in California. \n\nArchival photo credit: Sacramento\, California\, capitol building\, Visual Instruction Department Lantern Slides\, OSC Special Collections & Archives\, Item Number: P217:set 023 018
URL:https://calhum.org/event/how-can-california-overcome-its-voter-disillusionment/
LOCATION:Library Galleria—Sacramento Central Library\, I Street\, Sacramento\, CA\, 95814\, United States
ATTACH;FMTTYPE=image/jpeg:https://calhum.org/wp-content/uploads/2022/04/COB_Web_SPEAKERS_FINAL-scaled.jpg
GEO:38.5816816;-121.4951555
X-APPLE-STRUCTURED-LOCATION;VALUE=URI;X-ADDRESS=Library Galleria—Sacramento Central Library I Street Sacramento CA 95814 United States;X-APPLE-RADIUS=500;X-TITLE=I Street:geo:-121.4951555,38.5816816
END:VEVENT
END:VCALENDAR